BEGIN:VCALENDAR
VERSION:2.0
PRODID:-//Georgian Bay East AA - ECPv6.15.20//NONSGML v1.0//EN
CALSCALE:GREGORIAN
METHOD:PUBLISH
X-ORIGINAL-URL:https://egbdaa.org
X-WR-CALDESC:Events for Georgian Bay East AA
REFRESH-INTERVAL;VALUE=DURATION:PT1H
X-Robots-Tag:noindex
X-PUBLISHED-TTL:PT1H
BEGIN:VTIMEZONE
TZID:America/Toronto
BEGIN:DAYLIGHT
TZOFFSETFROM:-0500
TZOFFSETTO:-0400
TZNAME:EDT
DTSTART:20230312T070000
END:DAYLIGHT
BEGIN:STANDARD
TZOFFSETFROM:-0400
TZOFFSETTO:-0500
TZNAME:EST
DTSTART:20231105T060000
END:STANDARD
BEGIN:DAYLIGHT
TZOFFSETFROM:-0500
TZOFFSETTO:-0400
TZNAME:EDT
DTSTART:20240310T070000
END:DAYLIGHT
BEGIN:STANDARD
TZOFFSETFROM:-0400
TZOFFSETTO:-0500
TZNAME:EST
DTSTART:20241103T060000
END:STANDARD
BEGIN:DAYLIGHT
TZOFFSETFROM:-0500
TZOFFSETTO:-0400
TZNAME:EDT
DTSTART:20250309T070000
END:DAYLIGHT
BEGIN:STANDARD
TZOFFSETFROM:-0400
TZOFFSETTO:-0500
TZNAME:EST
DTSTART:20251102T060000
END:STANDARD
END:VTIMEZONE
BEGIN:VEVENT
DTSTART;TZID=America/Toronto:20241101T200000
DTEND;TZID=America/Toronto:20241103T160000
DTSTAMP:20260422T014605
CREATED:20240608T211320Z
LAST-MODIFIED:20240608T211508Z
UID:2837-1730491200-1730649600@egbdaa.org
SUMMARY:Area 86 Fall Assembly
DESCRIPTION:
URL:https://egbdaa.org/event/area-86-fall-assembly/
LOCATION:ON
CATEGORIES:Upcoming Events
END:VEVENT
BEGIN:VEVENT
DTSTART;VALUE=DATE:20241104
DTEND;VALUE=DATE:20241105
DTSTAMP:20260422T014605
CREATED:20241029T164510Z
LAST-MODIFIED:20241029T164847Z
UID:2946-1730678400-1730764799@egbdaa.org
SUMMARY:Tom T - 16 Years
DESCRIPTION:Member of the Midland 12 & 12 Discussion Group
URL:https://egbdaa.org/event/tom-t-16-years/
LOCATION:ON
CATEGORIES:Birthday Celebrations
END:VEVENT
BEGIN:VEVENT
DTSTART;TZID=America/Toronto:20241106T200000
DTEND;TZID=America/Toronto:20241106T210000
DTSTAMP:20260422T014605
CREATED:20241101T204630Z
LAST-MODIFIED:20241101T204630Z
UID:2949-1730923200-1730926800@egbdaa.org
SUMMARY:Rama Miigwech Group - 30th Anniversary Celebration
DESCRIPTION:The Rama Miigwech Group is celebrating it’s 30th year of service this Wednesday November 6th\, beginning at 8pm. \nThere will be 2 guest speakers \nThere will be food and cake for those attending. \nAll are welcome!
URL:https://egbdaa.org/event/rama-miigwech-group-30th-anniversary-celebration/
LOCATION:Rama United Church\, 5896 Rama Rd\, Orillia\, ON\, L3V 6H6\, Canada
CATEGORIES:Upcoming Events
END:VEVENT
BEGIN:VEVENT
DTSTART;TZID=America/Toronto:20241108T200000
DTEND;TZID=America/Toronto:20241108T210000
DTSTAMP:20260422T014605
CREATED:20241101T212745Z
LAST-MODIFIED:20241101T212745Z
UID:2951-1731096000-1731099600@egbdaa.org
SUMMARY:Penetang Friday Night Group - 70th Anniversary of Service Celebration
DESCRIPTION:A celebration of the 70th Anniversary of the Penetang Friday Night Group will take place Friday November 8th\, 2024 at 8pm. \nFood and cake will be provided. \nGuest Speakers will be speaking as well. \nAll are welcome!
URL:https://egbdaa.org/event/penetang-friday-night-group-70th-anniversary-of-service-celebration/
LOCATION:Saint Anne Roman Catholic Church\, 28 Robert St W\, Penetanguishene\, ON\, Canada
CATEGORIES:Upcoming Events
END:VEVENT
BEGIN:VEVENT
DTSTART;TZID=America/Toronto:20241110T133000
DTEND;TZID=America/Toronto:20241110T133000
DTSTAMP:20260422T014605
CREATED:20241014T230121Z
LAST-MODIFIED:20241014T230246Z
UID:2939-1731245400-1731245400@egbdaa.org
SUMMARY:District 7 Committee Meeting
DESCRIPTION:All welcome to come and learn about service and opportunities to get involved.  Visitors may observe only. \nThis is a Hybrid meeting.  Virtual available via Zoom ID: 810 0506 7502    Passcode: service
URL:https://egbdaa.org/event/district-7-committee-meeting/
LOCATION:Saint James’ Anglican Church\, 58 Peter St N\, Orillia\, ON L3V 6J6\, Canada\, 58 Peter St N\, Orillia\, Ontario\, L3V 6J6\, Canada
CATEGORIES:Upcoming Events
END:VEVENT
BEGIN:VEVENT
DTSTART;VALUE=DATE:20241116
DTEND;VALUE=DATE:20241117
DTSTAMP:20260422T014605
CREATED:20240910T192432Z
LAST-MODIFIED:20240910T192435Z
UID:2914-1731715200-1731801599@egbdaa.org
SUMMARY:Orillia Roundup
DESCRIPTION:2024 Orillia Roundup Flyer
URL:https://egbdaa.org/event/orillia-roundup-2/
LOCATION:Saint James’ Anglican Church\, 58 Peter St N\, Orillia\, ON L3V 6J6\, Canada\, 58 Peter St N\, Orillia\, Ontario\, L3V 6J6\, Canada
CATEGORIES:Upcoming Events
END:VEVENT
END:VCALENDAR