BEGIN:VCALENDAR
VERSION:2.0
PRODID:-//Georgian Bay East AA - ECPv6.15.20//NONSGML v1.0//EN
CALSCALE:GREGORIAN
METHOD:PUBLISH
X-ORIGINAL-URL:https://egbdaa.org
X-WR-CALDESC:Events for Georgian Bay East AA
REFRESH-INTERVAL;VALUE=DURATION:PT1H
X-Robots-Tag:noindex
X-PUBLISHED-TTL:PT1H
BEGIN:VTIMEZONE
TZID:America/Toronto
BEGIN:DAYLIGHT
TZOFFSETFROM:-0500
TZOFFSETTO:-0400
TZNAME:EDT
DTSTART:20230312T070000
END:DAYLIGHT
BEGIN:STANDARD
TZOFFSETFROM:-0400
TZOFFSETTO:-0500
TZNAME:EST
DTSTART:20231105T060000
END:STANDARD
BEGIN:DAYLIGHT
TZOFFSETFROM:-0500
TZOFFSETTO:-0400
TZNAME:EDT
DTSTART:20240310T070000
END:DAYLIGHT
BEGIN:STANDARD
TZOFFSETFROM:-0400
TZOFFSETTO:-0500
TZNAME:EST
DTSTART:20241103T060000
END:STANDARD
BEGIN:DAYLIGHT
TZOFFSETFROM:-0500
TZOFFSETTO:-0400
TZNAME:EDT
DTSTART:20250309T070000
END:DAYLIGHT
BEGIN:STANDARD
TZOFFSETFROM:-0400
TZOFFSETTO:-0500
TZNAME:EST
DTSTART:20251102T060000
END:STANDARD
END:VTIMEZONE
BEGIN:VEVENT
DTSTART;TZID=America/Toronto:20241010T200000
DTEND;TZID=America/Toronto:20241010T210000
DTSTAMP:20260422T032045
CREATED:20240910T192817Z
LAST-MODIFIED:20240910T192823Z
UID:2916-1728590400-1728594000@egbdaa.org
SUMMARY:Midland Young Peoples Group 50th Anniversary Celebration
DESCRIPTION:
URL:https://egbdaa.org/event/midland-young-peoples-group-50th-anniversary-celebration/
LOCATION:St. Marks Anglican Church\, 303 Third St.\, Midland\, Ontario\, L4R 3S5\, Canada
CATEGORIES:Upcoming Events
END:VEVENT
BEGIN:VEVENT
DTSTART;VALUE=DATE:20241014
DTEND;VALUE=DATE:20241015
DTSTAMP:20260422T032045
CREATED:20240922T135017Z
LAST-MODIFIED:20240922T135843Z
UID:2919-1728864000-1728950399@egbdaa.org
SUMMARY:Gayle N - 45 Years
DESCRIPTION:Member of Midland 12 & 12 Discussion Group
URL:https://egbdaa.org/event/gayle-n-45-years/
LOCATION:ON
CATEGORIES:Birthday Celebrations
END:VEVENT
BEGIN:VEVENT
DTSTART;VALUE=DATE:20241016
DTEND;VALUE=DATE:20241017
DTSTAMP:20260422T032045
CREATED:20240922T150120Z
LAST-MODIFIED:20240922T150124Z
UID:2925-1729036800-1729123199@egbdaa.org
SUMMARY:Kathy D - 10 Years
DESCRIPTION:Member of the Midland 12 & 12 Discussion Group
URL:https://egbdaa.org/event/kathy-d-10-years/
LOCATION:ON
END:VEVENT
BEGIN:VEVENT
DTSTART;TZID=America/Toronto:20241016T103000
DTEND;TZID=America/Toronto:20241016T113000
DTSTAMP:20260422T032045
CREATED:20240922T150255Z
LAST-MODIFIED:20240922T150300Z
UID:2927-1729074600-1729078200@egbdaa.org
SUMMARY:Kathy D - 10 Year Celebration - Midland 12 & 12 Discussion Group
DESCRIPTION:
URL:https://egbdaa.org/event/kathy-d-10-year-celebration-midland-12-12-discussion-group/
LOCATION:St. Marks Anglican Church\, 303 Third St.\, Midland\, Ontario\, L4R 3S5\, Canada
CATEGORIES:Birthday Celebrations
END:VEVENT
BEGIN:VEVENT
DTSTART;TZID=America/Toronto:20241028T190000
DTEND;TZID=America/Toronto:20241028T200000
DTSTAMP:20260422T032045
CREATED:20241014T224926Z
LAST-MODIFIED:20241014T225131Z
UID:2935-1730142000-1730145600@egbdaa.org
SUMMARY:Kristy F - 10 Year Celebration at Circle of Friends Women's Group
DESCRIPTION:This celebration meeting is an Open Speaker Meeting. Persons of any gender welcome.
URL:https://egbdaa.org/event/kristy-f-10-year-celebration-at-circle-of-friends-womens-group/
LOCATION:St. Athanasius Anglican Church\, 10 Westmount Dr N\, Orillia\, ON\, L3V 6B8\, Canada
CATEGORIES:Birthday Celebrations
END:VEVENT
BEGIN:VEVENT
DTSTART;TZID=America/Toronto:20241030T103000
DTEND;TZID=America/Toronto:20241030T113000
DTSTAMP:20260422T032045
CREATED:20240922T135718Z
LAST-MODIFIED:20240922T135721Z
UID:2921-1730284200-1730287800@egbdaa.org
SUMMARY:Gayle N - 45 Year Celebration - Midland 12 & 12 Discussion Group
DESCRIPTION:
URL:https://egbdaa.org/event/gayle-n-45-year-celebration-midland-12-12-discussion-group/
LOCATION:St. Mark’s Anglican Church\, 303 Third St.\, Midland\, Ontario\, L4R 3S5\, Canada
CATEGORIES:Birthday Celebrations
END:VEVENT
END:VCALENDAR