BEGIN:VCALENDAR
VERSION:2.0
PRODID:-//Georgian Bay East AA - ECPv6.15.20//NONSGML v1.0//EN
CALSCALE:GREGORIAN
METHOD:PUBLISH
X-WR-CALNAME:Georgian Bay East AA
X-ORIGINAL-URL:https://egbdaa.org
X-WR-CALDESC:Events for Georgian Bay East AA
REFRESH-INTERVAL;VALUE=DURATION:PT1H
X-Robots-Tag:noindex
X-PUBLISHED-TTL:PT1H
BEGIN:VTIMEZONE
TZID:America/Toronto
BEGIN:DAYLIGHT
TZOFFSETFROM:-0500
TZOFFSETTO:-0400
TZNAME:EDT
DTSTART:20230312T070000
END:DAYLIGHT
BEGIN:STANDARD
TZOFFSETFROM:-0400
TZOFFSETTO:-0500
TZNAME:EST
DTSTART:20231105T060000
END:STANDARD
BEGIN:DAYLIGHT
TZOFFSETFROM:-0500
TZOFFSETTO:-0400
TZNAME:EDT
DTSTART:20240310T070000
END:DAYLIGHT
BEGIN:STANDARD
TZOFFSETFROM:-0400
TZOFFSETTO:-0500
TZNAME:EST
DTSTART:20241103T060000
END:STANDARD
BEGIN:DAYLIGHT
TZOFFSETFROM:-0500
TZOFFSETTO:-0400
TZNAME:EDT
DTSTART:20250309T070000
END:DAYLIGHT
BEGIN:STANDARD
TZOFFSETFROM:-0400
TZOFFSETTO:-0500
TZNAME:EST
DTSTART:20251102T060000
END:STANDARD
END:VTIMEZONE
BEGIN:VEVENT
DTSTART;TZID=America/Toronto:20240403T103000
DTEND;TZID=America/Toronto:20240403T120000
DTSTAMP:20260424T133434
CREATED:20240317T162133Z
LAST-MODIFIED:20240317T162133Z
UID:2738-1712140200-1712145600@egbdaa.org
SUMMARY:Dezerai - 11 Year Birthday - Midland 12 & 12 Discussion Group
DESCRIPTION:
URL:https://egbdaa.org/event/dezerai-11-year-birthday-midland-12-12-discussion-group/
LOCATION:St. Mark’s Anglican Church\, 303 Third St.\, Midland\, Ontario\, L4R 3S5\, Canada
CATEGORIES:Birthday Celebrations
END:VEVENT
BEGIN:VEVENT
DTSTART;TZID=America/Toronto:20240413T090000
DTEND;TZID=America/Toronto:20240413T130000
DTSTAMP:20260424T133434
CREATED:20240302T201839Z
LAST-MODIFIED:20240311T191058Z
UID:2711-1712998800-1713013200@egbdaa.org
SUMMARY:46th Barrie Spring Round-Up
DESCRIPTION:
URL:https://egbdaa.org/event/46th-barrie-spring-round-up/
LOCATION:Collier Street United Church\, 112 Collier Street\, Barrie\, ON\, L4M1H3\, Canada
CATEGORIES:Upcoming Events
END:VEVENT
BEGIN:VEVENT
DTSTART;TZID=America/Toronto:20240414T133000
DTEND;TZID=America/Toronto:20240414T133000
DTSTAMP:20260424T133435
CREATED:20240312T230317Z
LAST-MODIFIED:20240312T230600Z
UID:2733-1713101400-1713101400@egbdaa.org
SUMMARY:District Committee Meeting - Hybrid
DESCRIPTION:All AA members are invited to this meeting.   Please email for Passcode\, no less than 2 days prior to the meeting: \nofsgroup.d7@gmail.com \nTopic: District Committee Meeting – D7/P74\nTime: 1:30 pm \nJoin Zoom Meeting\nhttps://us02web.zoom.us/j/81005067502?pwd=Zkw3VHhHOVVBNk4xaXhGeGliRS84dz09 \nMeeting ID: 810 0506 7502 \nPasscode: \n  \n 
URL:https://egbdaa.org/event/district-committee-meeting-hybrid/
LOCATION:Saint James’ Anglican Church\, 58 Peter St N\, Orillia\, ON L3V 6J6\, Canada\, 58 Peter St N\, Orillia\, Ontario\, L3V 6J6\, Canada
CATEGORIES:Upcoming Events
END:VEVENT
BEGIN:VEVENT
DTSTART;TZID=America/Toronto:20240428T170000
DTEND;TZID=America/Toronto:20240428T200000
DTSTAMP:20260424T133435
CREATED:20240326T194401Z
LAST-MODIFIED:20240326T194401Z
UID:2753-1714323600-1714334400@egbdaa.org
SUMMARY:Orillia Friday Sunday Group 76th Anniversary Pot Luck & Speaker Meeting
DESCRIPTION:All are welcome to join us in Celebrating 76 Years of service to the community. \nPot Luck Dinner at 5:00 pm \nOpen Speaker Meeting at 7:00 pm
URL:https://egbdaa.org/event/orillia-friday-sunday-group-76th-anniversary-pot-luck-speaker-meeting/
LOCATION:Saint James’ Anglican Church\, 58 Peter St N\, Orillia\, ON L3V 6J6\, Canada\, 58 Peter St N\, Orillia\, Ontario\, L3V 6J6\, Canada
CATEGORIES:Upcoming Events
END:VEVENT
BEGIN:VEVENT
DTSTART;TZID=America/Toronto:20240429T193000
DTEND;TZID=America/Toronto:20240429T210000
DTSTAMP:20260424T133435
CREATED:20240421T141011Z
LAST-MODIFIED:20240421T141011Z
UID:2787-1714419000-1714424400@egbdaa.org
SUMMARY:Mike T - 10 Year Medallion
DESCRIPTION:
URL:https://egbdaa.org/event/mike-t-10-year-medallion/
LOCATION:Covenant Community Church\, 95 Robert St E\, Penetanguishene\, Ontario\, Canada
CATEGORIES:Upcoming Events
END:VEVENT
END:VCALENDAR