BEGIN:VCALENDAR
VERSION:2.0
PRODID:-//Georgian Bay East AA - ECPv6.15.20//NONSGML v1.0//EN
CALSCALE:GREGORIAN
METHOD:PUBLISH
X-WR-CALNAME:Georgian Bay East AA
X-ORIGINAL-URL:https://egbdaa.org
X-WR-CALDESC:Events for Georgian Bay East AA
REFRESH-INTERVAL;VALUE=DURATION:PT1H
X-Robots-Tag:noindex
X-PUBLISHED-TTL:PT1H
BEGIN:VTIMEZONE
TZID:America/Toronto
BEGIN:DAYLIGHT
TZOFFSETFROM:-0500
TZOFFSETTO:-0400
TZNAME:EDT
DTSTART:20230312T070000
END:DAYLIGHT
BEGIN:STANDARD
TZOFFSETFROM:-0400
TZOFFSETTO:-0500
TZNAME:EST
DTSTART:20231105T060000
END:STANDARD
BEGIN:DAYLIGHT
TZOFFSETFROM:-0500
TZOFFSETTO:-0400
TZNAME:EDT
DTSTART:20240310T070000
END:DAYLIGHT
BEGIN:STANDARD
TZOFFSETFROM:-0400
TZOFFSETTO:-0500
TZNAME:EST
DTSTART:20241103T060000
END:STANDARD
BEGIN:DAYLIGHT
TZOFFSETFROM:-0500
TZOFFSETTO:-0400
TZNAME:EDT
DTSTART:20250309T070000
END:DAYLIGHT
BEGIN:STANDARD
TZOFFSETFROM:-0400
TZOFFSETTO:-0500
TZNAME:EST
DTSTART:20251102T060000
END:STANDARD
END:VTIMEZONE
BEGIN:VEVENT
DTSTART;TZID=America/Toronto:20240302T080000
DTEND;TZID=America/Toronto:20240302T170000
DTSTAMP:20260424T152241
CREATED:20240302T201513Z
LAST-MODIFIED:20240302T201513Z
UID:2709-1709366400-1709398800@egbdaa.org
SUMMARY:Roy C. - 31 Year Celebration - Midland 12 & 12 Group
DESCRIPTION:
URL:https://egbdaa.org/event/roy-c-31-year-celebration-midland-12-12-group/
LOCATION:ON
CATEGORIES:Birthday Celebrations
END:VEVENT
BEGIN:VEVENT
DTSTART;TZID=America/Toronto:20240303T133000
DTEND;TZID=America/Toronto:20240303T133000
DTSTAMP:20260424T152241
CREATED:20240222T222136Z
LAST-MODIFIED:20240222T222152Z
UID:2694-1709472600-1709472600@egbdaa.org
SUMMARY:District 7 Committee Meeting -HYBRID
DESCRIPTION:
URL:https://egbdaa.org/event/district-7-committee-meeting-hybrid-2/
LOCATION:Saint James’ Anglican Church\, 58 Peter St N\, Orillia\, ON L3V 6J6\, Canada\, 58 Peter St N\, Orillia\, Ontario\, L3V 6J6\, Canada
CATEGORIES:Upcoming Events
END:VEVENT
BEGIN:VEVENT
DTSTART;TZID=America/Toronto:20240303T200000
DTEND;TZID=America/Toronto:20240303T213000
DTSTAMP:20260424T152241
CREATED:20240226T185425Z
LAST-MODIFIED:20240226T185432Z
UID:2703-1709496000-1709501400@egbdaa.org
SUMMARY:Devon B - 1 Year Celebration - Back to Basics Group\, Bracebridge
DESCRIPTION:
URL:https://egbdaa.org/event/devon-b-1-year-celebration-back-to-basics-group-bracebridge/
LOCATION:ON
CATEGORIES:Birthday Celebrations
END:VEVENT
BEGIN:VEVENT
DTSTART;TZID=America/Toronto:20240315T080000
DTEND;TZID=America/Toronto:20240317T170000
DTSTAMP:20260424T152241
CREATED:20240101T211232Z
LAST-MODIFIED:20240101T211232Z
UID:2652-1710489600-1710694800@egbdaa.org
SUMMARY:AA Ontario Regional Conference
DESCRIPTION:The theme for ORC 2024 is “A New Freedom”\, so look forward to an extra-welcoming high-energy weekend that aims to spread that feeling of “A New Freedom” to all! \nAs always\, ORC 2024 will be an inspiring weekend jam-packed with non-stop AA\, AL-ANON\, and ALATEEN panels\, topic meetings\, and amazing speakers. And of course… bring your dancing shoes! \nFriday Keynote AA Speaker:\nKatie P\, Austin\, TX \nSaturday Banquet AA Speaker:\nJohn A\, Heartland\, TX \nAlso:\nSteve L\, Nashville\, TN\nRuth L\, Montreal\, QC \nAnd many\, many more! \nFeatured Al-Anon Speaker:\nCatherine K\, Dallas\, TX \nFriday Keynote AA Speaker:\nKatie P\, Austin\, TX \nSaturday Banquet AA Speaker:\nJohn A\, Heartland\, TX \nAlso:\nSteve L\, Nashville\, TN\nRuth L\, Montreal\, QC \nAnd many\, many more! \nFeatured Al-Anon Speaker:\nCatherine K\, Dallas\, TX \nThe full speaker line-up will be posted in February. \nGeneral admission is $55\nRegister Now to Win: Free Hotel Room! + $100 The Keg Gift Card!\nEach ticket purchased by Feb 1\, 2024 will be entered into a random draw\, with one winner selected on Feb 9\, 2024. The winner will receive a $100 The Keg Gift Card\, and be given a free hotel room for March 15 and 16. \nAnd if paying by credit card isn’t your thing\, Visa/MC Debit is accepted too. \nBanquet tickets are $105\n\n\n\nEnsure you secure your spot at the Banquet Dinner/Speaker by registering online now. Prime tables are limited and allocated on a first-come-first-serve-basis\, so act fast! \nBanquet tickets include a three-course plated meal (with dietary restrictions accommodated)\, and live view of the Banquet Speaker. \n(Those without banquet tickets will view the Banquet Speaker by simulcast in overflow rooms.) \n\n\n\nDiscounted hotel rate is $215/night\nWe will be at the Sheraton Centre Toronto Hotel\, 123 Queen St W. Our programming and fellowship starts early and goes late\, so many people choose to stay overnight rather than commute. If you’re blessed with financial ability\, we encourage you to book a room to get the most possible out of the weekend. \nTo get the discount\, book your hotel room through the registration page.
URL:https://egbdaa.org/event/aa-ontario-regional-conference/
LOCATION:Sheraton Center Toronto Hotel\, 123 Queen Street\, Toronto\, Ontario\, M5H 4G1\, Canada
CATEGORIES:Upcoming Events
END:VEVENT
BEGIN:VEVENT
DTSTART;VALUE=DATE:20240317
DTEND;VALUE=DATE:20240318
DTSTAMP:20260424T152241
CREATED:20240311T190319Z
LAST-MODIFIED:20240311T191223Z
UID:2725-1710633600-1710719999@egbdaa.org
SUMMARY:Eastern Canada Delegates' Orientation - All AA Members Welcome
DESCRIPTION:Eastern Canada Delegates Orientation Flyer
URL:https://egbdaa.org/event/eastern-canada-delegates-orientation-all-aa-members-welcome/
LOCATION:ON
CATEGORIES:Upcoming Events
END:VEVENT
BEGIN:VEVENT
DTSTART;TZID=America/Toronto:20240326T170000
DTEND;TZID=America/Toronto:20240326T200000
DTSTAMP:20260424T152241
CREATED:20240326T193531Z
LAST-MODIFIED:20240326T193531Z
UID:2750-1711472400-1711483200@egbdaa.org
SUMMARY:Orillia Friday Sunday Group 76th Anniversary Pot Luck & Speaker
DESCRIPTION:All are invited to join us in Celebrating 76 Years of service to the community. \nPot Luck Dinner @ 5:00 pm \nOpen Speaker Meeting @ 7:00 pm
URL:https://egbdaa.org/event/orillia-friday-sunday-group-76th-anniversary-pot-luck-speaker/
LOCATION:Saint James’ Anglican Church\, 58 Peter St N\, Orillia\, ON L3V 6J6\, Canada\, 58 Peter St N\, Orillia\, Ontario\, L3V 6J6\, Canada
END:VEVENT
BEGIN:VEVENT
DTSTART;TZID=America/Toronto:20240327T200000
DTEND;TZID=America/Toronto:20240327T200000
DTSTAMP:20260424T152241
CREATED:20240206T012008Z
LAST-MODIFIED:20240311T185033Z
UID:2676-1711569600-1711569600@egbdaa.org
SUMMARY:Dani - 1 Year Celebration - Wed Nite Gravenhurst Group
DESCRIPTION:
URL:https://egbdaa.org/event/dani-1-year-celebration-midland-12-12/
LOCATION:Trinity United Church\, 290 Muskoka Rd. N\, Gravenhurst\, ON\, P1P 1X2\, Canada
CATEGORIES:Birthday Celebrations
END:VEVENT
END:VCALENDAR