BEGIN:VCALENDAR
VERSION:2.0
PRODID:-//Georgian Bay East AA - ECPv6.15.20//NONSGML v1.0//EN
CALSCALE:GREGORIAN
METHOD:PUBLISH
X-WR-CALNAME:Georgian Bay East AA
X-ORIGINAL-URL:https://egbdaa.org
X-WR-CALDESC:Events for Georgian Bay East AA
REFRESH-INTERVAL;VALUE=DURATION:PT1H
X-Robots-Tag:noindex
X-PUBLISHED-TTL:PT1H
BEGIN:VTIMEZONE
TZID:America/Toronto
BEGIN:DAYLIGHT
TZOFFSETFROM:-0500
TZOFFSETTO:-0400
TZNAME:EDT
DTSTART:20220313T070000
END:DAYLIGHT
BEGIN:STANDARD
TZOFFSETFROM:-0400
TZOFFSETTO:-0500
TZNAME:EST
DTSTART:20221106T060000
END:STANDARD
BEGIN:DAYLIGHT
TZOFFSETFROM:-0500
TZOFFSETTO:-0400
TZNAME:EDT
DTSTART:20230312T070000
END:DAYLIGHT
BEGIN:STANDARD
TZOFFSETFROM:-0400
TZOFFSETTO:-0500
TZNAME:EST
DTSTART:20231105T060000
END:STANDARD
BEGIN:DAYLIGHT
TZOFFSETFROM:-0500
TZOFFSETTO:-0400
TZNAME:EDT
DTSTART:20240310T070000
END:DAYLIGHT
BEGIN:STANDARD
TZOFFSETFROM:-0400
TZOFFSETTO:-0500
TZNAME:EST
DTSTART:20241103T060000
END:STANDARD
END:VTIMEZONE
BEGIN:VEVENT
DTSTART;TZID=America/Toronto:20230504T190000
DTEND;TZID=America/Toronto:20230504T200000
DTSTAMP:20260425T094414
CREATED:20230413T125716Z
LAST-MODIFIED:20230413T125716Z
UID:2329-1683226800-1683230400@egbdaa.org
SUMMARY:Pat McC 20 Year Medalion
DESCRIPTION:Pat McC\n20 years to be celebrate on Thursday\, May 4\, 2023\, 7pm\nBrechin Thursday Night Meeting\nBrechin United Church\n\n\n\n\nBrechin Thursday Night\n\nBrechin United Church\n\n\n3226 Ramara Road 47\nBrechin
URL:https://egbdaa.org/event/pat-mcc-20-year-medalion/
LOCATION:Brechin United Church\, 3226 Ramara Road 47\, Brechin\, ON\, L0K 1B0\, Canada
CATEGORIES:Birthday Celebrations
END:VEVENT
BEGIN:VEVENT
DTSTART;TZID=America/Toronto:20230507T190000
DTEND;TZID=America/Toronto:20230507T200000
DTSTAMP:20260425T094414
CREATED:20230419T135732Z
LAST-MODIFIED:20230419T135732Z
UID:2335-1683486000-1683489600@egbdaa.org
SUMMARY:Dave S 1 Year Medalion
DESCRIPTION:Dave S.\, 1 Year\, Sunday May 7th\n\n\n\n\n7:00 pm\nOrillia Friday-Sunday Group\n\nSt. James Anglican Church\nIn-person and Online\n\n58 Peter St N\nOrillia
URL:https://egbdaa.org/event/dave-s-1-year-medalion/
LOCATION:Saint James’ Anglican Church\, 58 Peter St N\, Orillia\, ON L3V 6J6\, Canada\, 58 Peter St N\, Orillia\, Ontario\, L3V 6J6\, Canada
CATEGORIES:Birthday Celebrations
END:VEVENT
BEGIN:VEVENT
DTSTART;TZID=America/Toronto:20230508T200000
DTEND;TZID=America/Toronto:20230508T210000
DTSTAMP:20260425T094414
CREATED:20230430T192610Z
LAST-MODIFIED:20230506T161050Z
UID:2341-1683576000-1683579600@egbdaa.org
SUMMARY:Sandi M 1 Year Medalion
DESCRIPTION:
URL:https://egbdaa.org/event/sandi-m-1-year-medalion/
LOCATION:St. John’s United Church\, 27 Yonge St. S.\, Elmvale\, Ontario\, L0L 1P0\, Canada
CATEGORIES:Birthday Celebrations
END:VEVENT
BEGIN:VEVENT
DTSTART;VALUE=DATE:20230513
DTEND;VALUE=DATE:20230514
DTSTAMP:20260425T094414
CREATED:20230130T161724Z
LAST-MODIFIED:20230130T161724Z
UID:2277-1683936000-1684022399@egbdaa.org
SUMMARY:Midland and Area One Day Round Up
DESCRIPTION:Save the date. \nStay tuned more information to follow when available. \n 
URL:https://egbdaa.org/event/midland-and-area-one-day-round-up/
CATEGORIES:Upcoming Events
END:VEVENT
BEGIN:VEVENT
DTSTART;TZID=America/Toronto:20230517T103000
DTEND;TZID=America/Toronto:20230517T113000
DTSTAMP:20260425T094414
CREATED:20230419T134724Z
LAST-MODIFIED:20230419T135820Z
UID:2333-1684319400-1684323000@egbdaa.org
SUMMARY:Roger D 35 Year Medalion
DESCRIPTION:Our Group will celebrate Roger D. – 35 year on May 17th\, 2023. \n\n\n\n10:30 am\nMidland 12&12 Discussion Group\n\nSt. Mark’s Anglican Church\n\n\n303 Third St\nMidland
URL:https://egbdaa.org/event/roger-d-35-year-medalion/
LOCATION:St. Marks Anglican Church\, 303 Third St.\, Midland\, Ontario\, L4R 3S5\, Canada
CATEGORIES:Birthday Celebrations
END:VEVENT
BEGIN:VEVENT
DTSTART;TZID=America/Toronto:20230529T200000
DTEND;TZID=America/Toronto:20230529T210000
DTSTAMP:20260425T094414
CREATED:20230430T192738Z
LAST-MODIFIED:20230430T192738Z
UID:2343-1685390400-1685394000@egbdaa.org
SUMMARY:Laurie G 25 Year Medalion
DESCRIPTION:
URL:https://egbdaa.org/event/laurie-g-25-year-medalion/
LOCATION:St. John’s United Church\, 27 Yonge St. S.\, Elmvale\, Ontario\, L0L 1P0\, Canada
CATEGORIES:Birthday Celebrations
END:VEVENT
BEGIN:VEVENT
DTSTART;TZID=America/Toronto:20230529T200000
DTEND;TZID=America/Toronto:20230529T210000
DTSTAMP:20260425T094414
CREATED:20230506T161406Z
LAST-MODIFIED:20230506T161406Z
UID:2347-1685390400-1685394000@egbdaa.org
SUMMARY:Peter S 10 Year Medalion
DESCRIPTION:
URL:https://egbdaa.org/event/peter-s-10-year-medalion/
LOCATION:St. John’s United Church\, 27 Yonge St. S.\, Elmvale\, Ontario\, L0L 1P0\, Canada
CATEGORIES:Birthday Celebrations
END:VEVENT
END:VCALENDAR