BEGIN:VCALENDAR
VERSION:2.0
PRODID:-//Georgian Bay East AA - ECPv6.15.20//NONSGML v1.0//EN
CALSCALE:GREGORIAN
METHOD:PUBLISH
X-WR-CALNAME:Georgian Bay East AA
X-ORIGINAL-URL:https://egbdaa.org
X-WR-CALDESC:Events for Georgian Bay East AA
REFRESH-INTERVAL;VALUE=DURATION:PT1H
X-Robots-Tag:noindex
X-PUBLISHED-TTL:PT1H
BEGIN:VTIMEZONE
TZID:America/Toronto
BEGIN:DAYLIGHT
TZOFFSETFROM:-0500
TZOFFSETTO:-0400
TZNAME:EDT
DTSTART:20220313T070000
END:DAYLIGHT
BEGIN:STANDARD
TZOFFSETFROM:-0400
TZOFFSETTO:-0500
TZNAME:EST
DTSTART:20221106T060000
END:STANDARD
BEGIN:DAYLIGHT
TZOFFSETFROM:-0500
TZOFFSETTO:-0400
TZNAME:EDT
DTSTART:20230312T070000
END:DAYLIGHT
BEGIN:STANDARD
TZOFFSETFROM:-0400
TZOFFSETTO:-0500
TZNAME:EST
DTSTART:20231105T060000
END:STANDARD
BEGIN:DAYLIGHT
TZOFFSETFROM:-0500
TZOFFSETTO:-0400
TZNAME:EDT
DTSTART:20240310T070000
END:DAYLIGHT
BEGIN:STANDARD
TZOFFSETFROM:-0400
TZOFFSETTO:-0500
TZNAME:EST
DTSTART:20241103T060000
END:STANDARD
END:VTIMEZONE
BEGIN:VEVENT
DTSTART;VALUE=DATE:20230331
DTEND;VALUE=DATE:20230403
DTSTAMP:20260425T113310
CREATED:20230303T171942Z
LAST-MODIFIED:20230311T171514Z
UID:2305-1680220800-1680479999@egbdaa.org
SUMMARY:Area 86 Western Ontario General Service Spring Assembly
DESCRIPTION:AREA 86 WESTERN ONTARIO GENERAL SERVICE \nPRE-CONFERENCE SPRING ASSEMBLY 2023 \nMARCH 31ST – APRIL 2ND \nOakville Conference Centre/Bronte Holiday Inn (on the same property) \nThe correct adress is 2525 Wyecroft for the Holiday Inn and 2515 for the Oakville Conference Centre- the Assembly is at both and they are adjacent to each other.\n\nThe Staybridge Suites\, where we also have rooms is 2511 Wyecroft.  They are all on the same property.\n\n905-847-1000\, or toll free at 800-880-3188. Guests can also book online at www.holidayinn.com/oakvillebronte  by entering the group code in the reservation tab after choosing the appropriate dates. \nKing Suite $179.00\, King Standard $159.00 or two Queen beds $169.00  Group Code:  WOS   Cut-off date for group rate is March 10th \n  \nNote:  We also have a block of rooms for Saturday night at Staybridge \n$169 for 1 Queen Studio Suite (smoking) with Breakfast included and full kitchen or Queen Suite(non smoking) Breakfast included and full kitchen also $169  Call Staybridge direct 905-847-2600  or toll free 1-800-238-8000 \nGroup Block Code:   WOS Cut-off date for group rate is March 10th\,  www.staybridge.com/oakville.com \n 
URL:https://egbdaa.org/event/area-86-western-ontario-general-service-spring-assembly/
LOCATION:Oakville Conference Centre\, 275 Wyecroft Road\, Oakville\, Ontario\, L6L6P8\, Canada
END:VEVENT
BEGIN:VEVENT
DTSTART;TZID=America/Toronto:20230430T190000
DTEND;TZID=America/Toronto:20230430T200000
DTSTAMP:20260425T113310
CREATED:20230419T140054Z
LAST-MODIFIED:20230419T140054Z
UID:2337-1682881200-1682884800@egbdaa.org
SUMMARY:Orillia Friday Sunday Group 75th Anniversary
DESCRIPTION:Orillia Friday Sunday Group 75th Anniversary\,Sunday April 30
URL:https://egbdaa.org/event/orillia-friday-sunday-group-75th-anniversary/
LOCATION:Saint James’ Anglican Church\, 58 Peter St N\, Orillia\, ON L3V 6J6\, Canada\, 58 Peter St N\, Orillia\, Ontario\, L3V 6J6\, Canada
CATEGORIES:Upcoming Events
END:VEVENT
END:VCALENDAR