BEGIN:VCALENDAR
VERSION:2.0
PRODID:-//Georgian Bay East AA - ECPv6.15.20//NONSGML v1.0//EN
CALSCALE:GREGORIAN
METHOD:PUBLISH
X-WR-CALNAME:Georgian Bay East AA
X-ORIGINAL-URL:https://egbdaa.org
X-WR-CALDESC:Events for Georgian Bay East AA
REFRESH-INTERVAL;VALUE=DURATION:PT1H
X-Robots-Tag:noindex
X-PUBLISHED-TTL:PT1H
BEGIN:VTIMEZONE
TZID:America/Toronto
BEGIN:DAYLIGHT
TZOFFSETFROM:-0500
TZOFFSETTO:-0400
TZNAME:EDT
DTSTART:20200308T070000
END:DAYLIGHT
BEGIN:STANDARD
TZOFFSETFROM:-0400
TZOFFSETTO:-0500
TZNAME:EST
DTSTART:20201101T060000
END:STANDARD
BEGIN:DAYLIGHT
TZOFFSETFROM:-0500
TZOFFSETTO:-0400
TZNAME:EDT
DTSTART:20210314T070000
END:DAYLIGHT
BEGIN:STANDARD
TZOFFSETFROM:-0400
TZOFFSETTO:-0500
TZNAME:EST
DTSTART:20211107T060000
END:STANDARD
BEGIN:DAYLIGHT
TZOFFSETFROM:-0500
TZOFFSETTO:-0400
TZNAME:EDT
DTSTART:20220313T070000
END:DAYLIGHT
BEGIN:STANDARD
TZOFFSETFROM:-0400
TZOFFSETTO:-0500
TZNAME:EST
DTSTART:20221106T060000
END:STANDARD
BEGIN:DAYLIGHT
TZOFFSETFROM:-0500
TZOFFSETTO:-0400
TZNAME:EDT
DTSTART:20230312T070000
END:DAYLIGHT
BEGIN:STANDARD
TZOFFSETFROM:-0400
TZOFFSETTO:-0500
TZNAME:EST
DTSTART:20231105T060000
END:STANDARD
END:VTIMEZONE
BEGIN:VEVENT
DTSTART;TZID=America/Toronto:20220926T193000
DTEND;TZID=America/Toronto:20220926T203000
DTSTAMP:20260420T232945
CREATED:20220912T175901Z
LAST-MODIFIED:20220912T175901Z
UID:2079-1664220600-1664224200@egbdaa.org
SUMMARY:Sheila H 15 Year Medalion
DESCRIPTION:September 26\, 2022 at 7:30 pm – 15yr open speaker meeting for Sheila H – Circle of Friends – St. Athanasius Anglican Church 10 Westmount Dr N Orillia
URL:https://egbdaa.org/event/sheila-h-15-year-medalion/
CATEGORIES:Birthday Celebrations
END:VEVENT
BEGIN:VEVENT
DTSTART;TZID=America/Toronto:20220725T193000
DTEND;TZID=America/Toronto:20220725T203000
DTSTAMP:20260420T232945
CREATED:20220705T160903Z
LAST-MODIFIED:20220705T160903Z
UID:2026-1658777400-1658781000@egbdaa.org
SUMMARY:Carol B 10 Year Celebration
DESCRIPTION:Dave Y and Carol B will be celebrating 10 years each on July 25th at the Penetanguishene Monday Night Serenity Group
URL:https://egbdaa.org/event/carol-b-10-year-celebration/
CATEGORIES:Birthday Celebrations
END:VEVENT
BEGIN:VEVENT
DTSTART;TZID=America/Toronto:20220725T193000
DTEND;TZID=America/Toronto:20220725T203000
DTSTAMP:20260420T232945
CREATED:20220705T160642Z
LAST-MODIFIED:20220705T160642Z
UID:2024-1658777400-1658781000@egbdaa.org
SUMMARY:Dave Y 10 Year Celebration
DESCRIPTION:Dave Y and Carol B will be celebrating 10 years each on July 25th at the Penetanguishene Monday Night Serenity Group
URL:https://egbdaa.org/event/dave-y-10-year-celebration/
CATEGORIES:Birthday Celebrations
END:VEVENT
BEGIN:VEVENT
DTSTART;TZID=America/Toronto:20220626T190000
DTEND;TZID=America/Toronto:20220626T200000
DTSTAMP:20260420T232945
CREATED:20220517T132059Z
LAST-MODIFIED:20220517T132059Z
UID:1996-1656270000-1656273600@egbdaa.org
SUMMARY:Ivy B 25 Years Orillia Friday Sunday Group
DESCRIPTION:
URL:https://egbdaa.org/event/ivy-b-25-years-orillia-friday-sunday-group/
LOCATION:Saint James’ Anglican Church\, 58 Peter St N\, Orillia\, ON L3V 6J6\, Canada\, 58 Peter St N\, Orillia\, Ontario\, L3V 6J6\, Canada
END:VEVENT
BEGIN:VEVENT
DTSTART;TZID=America/Toronto:20220612T190000
DTEND;TZID=America/Toronto:20220612T200000
DTSTAMP:20260420T232945
CREATED:20220517T131933Z
LAST-MODIFIED:20220517T131933Z
UID:1994-1655060400-1655064000@egbdaa.org
SUMMARY:Mike H 15 Years Orillia Friday Sunday Group
DESCRIPTION:
URL:https://egbdaa.org/event/mike-h-15-years-orillia-friday-sunday-group/
LOCATION:Saint James’ Anglican Church\, 58 Peter St N\, Orillia\, ON L3V 6J6\, Canada\, 58 Peter St N\, Orillia\, Ontario\, L3V 6J6\, Canada
END:VEVENT
BEGIN:VEVENT
DTSTART;TZID=America/Toronto:20220522T190000
DTEND;TZID=America/Toronto:20220522T200000
DTSTAMP:20260420T232945
CREATED:20220517T131659Z
LAST-MODIFIED:20220517T131659Z
UID:1992-1653246000-1653249600@egbdaa.org
SUMMARY:Linda T 1 Year Orillia Friday Sunday Group
DESCRIPTION:
URL:https://egbdaa.org/event/linda-t-1-year-orillia-friday-sunday-group/
LOCATION:Saint James’ Anglican Church\, 58 Peter St N\, Orillia\, ON L3V 6J6\, Canada\, 58 Peter St N\, Orillia\, Ontario\, L3V 6J6\, Canada
CATEGORIES:Birthday Celebrations
END:VEVENT
BEGIN:VEVENT
DTSTART;VALUE=DATE:20220514
DTEND;VALUE=DATE:20220515
DTSTAMP:20260420T232945
CREATED:20220514T080000Z
LAST-MODIFIED:20220402T180827Z
UID:1965-1652486400-1652572799@egbdaa.org
SUMMARY:Midland and Area Roundup
DESCRIPTION:[pdf-embedder url=”https://egbdaa.org/wp-content/uploads/2022/04/2022-flyer.pdf” title=”2022 flyer”]
URL:https://egbdaa.org/event/midland-and-area-roundup/
CATEGORIES:Upcoming Events
END:VEVENT
BEGIN:VEVENT
DTSTART;TZID=America/Toronto:20220430T090000
DTEND;TZID=America/Toronto:20220430T160000
DTSTAMP:20260420T232945
CREATED:20220406T191427Z
LAST-MODIFIED:20220406T191427Z
UID:1972-1651309200-1651334400@egbdaa.org
SUMMARY:Orillia Spring Virtual Round Up
DESCRIPTION:[pdf-embedder url=”https://egbdaa.org/wp-content/uploads/2022/04/Spring-2022-Flyer.pdf” title=”Spring 2022 Flyer”]
URL:https://egbdaa.org/event/orillia-spring-virtual-round-up/
END:VEVENT
BEGIN:VEVENT
DTSTART;TZID=America/Toronto:20220414T200000
DTEND;TZID=America/Toronto:20220414T210000
DTSTAMP:20260420T232945
CREATED:20220410T192816Z
LAST-MODIFIED:20220410T192816Z
UID:1976-1649966400-1649970000@egbdaa.org
SUMMARY:40 Year Medalion for Pat S
DESCRIPTION:Thursday\, April 14th\, 8pm\, at the Bracebridge Group. Meeting held at the Bracebridge United Church\, 46 Dominion Street\, Bracebridge. Enter through door at the back.
URL:https://egbdaa.org/event/40-year-medalion-for-pat-s/
CATEGORIES:Birthday Celebrations
END:VEVENT
BEGIN:VEVENT
DTSTART;TZID=America/Toronto:20220318T080000
DTEND;TZID=America/Toronto:20220320T170000
DTSTAMP:20260420T232945
CREATED:20220318T160000Z
LAST-MODIFIED:20220309T164152Z
UID:1933-1647590400-1647795600@egbdaa.org
SUMMARY:Ontario Regional Conference Virtual
DESCRIPTION:
URL:https://egbdaa.org/event/ontario-regional-conference-virtual/
CATEGORIES:Upcoming Events
END:VEVENT
BEGIN:VEVENT
DTSTART;TZID=America/Toronto:20220307T080000
DTEND;TZID=America/Toronto:20220323T230000
DTSTAMP:20260420T232945
CREATED:20220307T180000Z
LAST-MODIFIED:20220310T161326Z
UID:1938-1646640000-1648076400@egbdaa.org
SUMMARY:WOGS Area 86 Workshops Virtual
DESCRIPTION:[pdf-embedder url=”https://egbdaa.org/wp-content/uploads/2022/03/flyerworkshops2022spring-3-1.pdf” title=”flyerworkshops2022spring (3) (1)”]
URL:https://egbdaa.org/event/wogs-area-86-workshops/
CATEGORIES:Upcoming Events
END:VEVENT
BEGIN:VEVENT
DTSTART;TZID=America/Toronto:20211219T103000
DTEND;TZID=America/Toronto:20211219T233000
DTSTAMP:20260420T232945
CREATED:20211219T203000Z
LAST-MODIFIED:20211215T151058Z
UID:1808-1639909800-1639956600@egbdaa.org
SUMMARY:75th Anniversary of the Midland Wednesday Night Meeting Celebration
DESCRIPTION:Zoom link : https://us02web.zoom.us/j/5694918896
URL:https://egbdaa.org/event/75th-anniversary-of-the-midland-wednesday-night-meeting-celebration/
LOCATION:Royal Canadian Legion Branch 80 196 Queen St Midland ON L4R 1J4 Canada\, 196 Queen St\, Midland\, ON\, K4R1J4\, Canada
CATEGORIES:Upcoming Events
END:VEVENT
END:VCALENDAR