BEGIN:VCALENDAR
VERSION:2.0
PRODID:-//Georgian Bay East AA - ECPv6.15.20//NONSGML v1.0//EN
CALSCALE:GREGORIAN
METHOD:PUBLISH
X-WR-CALNAME:Georgian Bay East AA
X-ORIGINAL-URL:https://egbdaa.org
X-WR-CALDESC:Events for Georgian Bay East AA
REFRESH-INTERVAL;VALUE=DURATION:PT1H
X-Robots-Tag:noindex
X-PUBLISHED-TTL:PT1H
BEGIN:VTIMEZONE
TZID:America/Toronto
BEGIN:DAYLIGHT
TZOFFSETFROM:-0500
TZOFFSETTO:-0400
TZNAME:EDT
DTSTART:20210314T070000
END:DAYLIGHT
BEGIN:STANDARD
TZOFFSETFROM:-0400
TZOFFSETTO:-0500
TZNAME:EST
DTSTART:20211107T060000
END:STANDARD
BEGIN:DAYLIGHT
TZOFFSETFROM:-0500
TZOFFSETTO:-0400
TZNAME:EDT
DTSTART:20220313T070000
END:DAYLIGHT
BEGIN:STANDARD
TZOFFSETFROM:-0400
TZOFFSETTO:-0500
TZNAME:EST
DTSTART:20221106T060000
END:STANDARD
BEGIN:DAYLIGHT
TZOFFSETFROM:-0500
TZOFFSETTO:-0400
TZNAME:EDT
DTSTART:20230312T070000
END:DAYLIGHT
BEGIN:STANDARD
TZOFFSETFROM:-0400
TZOFFSETTO:-0500
TZNAME:EST
DTSTART:20231105T060000
END:STANDARD
END:VTIMEZONE
BEGIN:VEVENT
DTSTART;TZID=America/Toronto:20220725T193000
DTEND;TZID=America/Toronto:20220725T203000
DTSTAMP:20260425T163231
CREATED:20220705T160903Z
LAST-MODIFIED:20220705T160903Z
UID:2026-1658777400-1658781000@egbdaa.org
SUMMARY:Carol B 10 Year Celebration
DESCRIPTION:Dave Y and Carol B will be celebrating 10 years each on July 25th at the Penetanguishene Monday Night Serenity Group
URL:https://egbdaa.org/event/carol-b-10-year-celebration/
CATEGORIES:Birthday Celebrations
END:VEVENT
BEGIN:VEVENT
DTSTART;TZID=America/Toronto:20220725T193000
DTEND;TZID=America/Toronto:20220725T203000
DTSTAMP:20260425T163231
CREATED:20220705T160642Z
LAST-MODIFIED:20220705T160642Z
UID:2024-1658777400-1658781000@egbdaa.org
SUMMARY:Dave Y 10 Year Celebration
DESCRIPTION:Dave Y and Carol B will be celebrating 10 years each on July 25th at the Penetanguishene Monday Night Serenity Group
URL:https://egbdaa.org/event/dave-y-10-year-celebration/
CATEGORIES:Birthday Celebrations
END:VEVENT
BEGIN:VEVENT
DTSTART;TZID=America/Toronto:20220522T190000
DTEND;TZID=America/Toronto:20220522T200000
DTSTAMP:20260425T163231
CREATED:20220517T131659Z
LAST-MODIFIED:20220517T131659Z
UID:1992-1653246000-1653249600@egbdaa.org
SUMMARY:Linda T 1 Year Orillia Friday Sunday Group
DESCRIPTION:
URL:https://egbdaa.org/event/linda-t-1-year-orillia-friday-sunday-group/
LOCATION:Saint James’ Anglican Church\, 58 Peter St N\, Orillia\, ON L3V 6J6\, Canada\, 58 Peter St N\, Orillia\, Ontario\, L3V 6J6\, Canada
CATEGORIES:Birthday Celebrations
END:VEVENT
BEGIN:VEVENT
DTSTART;TZID=America/Toronto:20220414T200000
DTEND;TZID=America/Toronto:20220414T210000
DTSTAMP:20260425T163231
CREATED:20220410T192816Z
LAST-MODIFIED:20220410T192816Z
UID:1976-1649966400-1649970000@egbdaa.org
SUMMARY:40 Year Medalion for Pat S
DESCRIPTION:Thursday\, April 14th\, 8pm\, at the Bracebridge Group. Meeting held at the Bracebridge United Church\, 46 Dominion Street\, Bracebridge. Enter through door at the back.
URL:https://egbdaa.org/event/40-year-medalion-for-pat-s/
CATEGORIES:Birthday Celebrations
END:VEVENT
END:VCALENDAR