BEGIN:VCALENDAR
VERSION:2.0
PRODID:-//Georgian Bay East AA - ECPv6.15.20//NONSGML v1.0//EN
CALSCALE:GREGORIAN
METHOD:PUBLISH
X-ORIGINAL-URL:https://egbdaa.org
X-WR-CALDESC:Events for Georgian Bay East AA
REFRESH-INTERVAL;VALUE=DURATION:PT1H
X-Robots-Tag:noindex
X-PUBLISHED-TTL:PT1H
BEGIN:VTIMEZONE
TZID:America/Toronto
BEGIN:DAYLIGHT
TZOFFSETFROM:-0500
TZOFFSETTO:-0400
TZNAME:EDT
DTSTART:20220313T070000
END:DAYLIGHT
BEGIN:STANDARD
TZOFFSETFROM:-0400
TZOFFSETTO:-0500
TZNAME:EST
DTSTART:20221106T060000
END:STANDARD
BEGIN:DAYLIGHT
TZOFFSETFROM:-0500
TZOFFSETTO:-0400
TZNAME:EDT
DTSTART:20230312T070000
END:DAYLIGHT
BEGIN:STANDARD
TZOFFSETFROM:-0400
TZOFFSETTO:-0500
TZNAME:EST
DTSTART:20231105T060000
END:STANDARD
BEGIN:DAYLIGHT
TZOFFSETFROM:-0500
TZOFFSETTO:-0400
TZNAME:EDT
DTSTART:20240310T070000
END:DAYLIGHT
BEGIN:STANDARD
TZOFFSETFROM:-0400
TZOFFSETTO:-0500
TZNAME:EST
DTSTART:20241103T060000
END:STANDARD
END:VTIMEZONE
BEGIN:VEVENT
DTSTART;VALUE=DATE:20231212
DTEND;VALUE=DATE:20231213
DTSTAMP:20260420T135443
CREATED:20231203T141120Z
LAST-MODIFIED:20231203T141211Z
UID:2616-1702339200-1702425599@egbdaa.org
SUMMARY:Paul W 33yrs - Elmvale Group
DESCRIPTION:
URL:https://egbdaa.org/event/paul-w-33yrs-elmvale-group/
CATEGORIES:Birthday Celebrations
END:VEVENT
BEGIN:VEVENT
DTSTART;VALUE=DATE:20231213
DTEND;VALUE=DATE:20231214
DTSTAMP:20260420T135443
CREATED:20231203T141315Z
LAST-MODIFIED:20231203T141332Z
UID:2619-1702425600-1702511999@egbdaa.org
SUMMARY:John K 38yrs - Elmvale Group
DESCRIPTION:
URL:https://egbdaa.org/event/john-k-38yrs-elmvale-group/
CATEGORIES:Birthday Celebrations
END:VEVENT
BEGIN:VEVENT
DTSTART;TZID=America/Toronto:20231214T200000
DTEND;TZID=America/Toronto:20231214T210000
DTSTAMP:20260420T135443
CREATED:20231215T121528Z
LAST-MODIFIED:20231215T121528Z
UID:2623-1702584000-1702587600@egbdaa.org
SUMMARY:Jay 10 yr medallion - Bracebridge Group
DESCRIPTION:
URL:https://egbdaa.org/event/jay-10-yr-medallion-bracebridge-group/
LOCATION:https://egbdaa.org/locations/bracebridge-united-church/?tsml-day=4\, 46 Dominion Street\, Bracebtidge\, Ontarion\, P1L 2A5\, Canada
CATEGORIES:Birthday Celebrations
END:VEVENT
BEGIN:VEVENT
DTSTART;TZID=America/Toronto:20231218T193000
DTEND;TZID=America/Toronto:20231218T203000
DTSTAMP:20260420T135443
CREATED:20231203T141027Z
LAST-MODIFIED:20231203T141027Z
UID:2613-1702927800-1702931400@egbdaa.org
SUMMARY:Ivana H. 5yr - Dec 16 - Elmvale Group
DESCRIPTION:
URL:https://egbdaa.org/event/ivana-h-5yr-dec-16-elmvale-group/
LOCATION:St. John’s United Church\, 27 Yonge St. S.\, Elmvale\, Ontario\, L0L 1P0\, Canada
CATEGORIES:Birthday Celebrations
END:VEVENT
END:VCALENDAR