BEGIN:VCALENDAR
VERSION:2.0
PRODID:-//Georgian Bay East AA - ECPv6.15.20//NONSGML v1.0//EN
CALSCALE:GREGORIAN
METHOD:PUBLISH
X-WR-CALNAME:Georgian Bay East AA
X-ORIGINAL-URL:https://egbdaa.org
X-WR-CALDESC:Events for Georgian Bay East AA
REFRESH-INTERVAL;VALUE=DURATION:PT1H
X-Robots-Tag:noindex
X-PUBLISHED-TTL:PT1H
BEGIN:VTIMEZONE
TZID:America/Toronto
BEGIN:DAYLIGHT
TZOFFSETFROM:-0500
TZOFFSETTO:-0400
TZNAME:EDT
DTSTART:20220313T070000
END:DAYLIGHT
BEGIN:STANDARD
TZOFFSETFROM:-0400
TZOFFSETTO:-0500
TZNAME:EST
DTSTART:20221106T060000
END:STANDARD
BEGIN:DAYLIGHT
TZOFFSETFROM:-0500
TZOFFSETTO:-0400
TZNAME:EDT
DTSTART:20230312T070000
END:DAYLIGHT
BEGIN:STANDARD
TZOFFSETFROM:-0400
TZOFFSETTO:-0500
TZNAME:EST
DTSTART:20231105T060000
END:STANDARD
BEGIN:DAYLIGHT
TZOFFSETFROM:-0500
TZOFFSETTO:-0400
TZNAME:EDT
DTSTART:20240310T070000
END:DAYLIGHT
BEGIN:STANDARD
TZOFFSETFROM:-0400
TZOFFSETTO:-0500
TZNAME:EST
DTSTART:20241103T060000
END:STANDARD
END:VTIMEZONE
BEGIN:VEVENT
DTSTART;TZID=America/Toronto:20231116T183000
DTEND;TZID=America/Toronto:20231116T200000
DTSTAMP:20260420T152843
CREATED:20231107T142547Z
LAST-MODIFIED:20231107T142547Z
UID:2597-1700159400-1700164800@egbdaa.org
SUMMARY:Alexa F. 1yr - Georgian Bay Sisters of Sobriety
DESCRIPTION:
URL:https://egbdaa.org/event/alexa-f-1yr-georgian-bay-sisters-of-sobriety/
LOCATION:Midland Library\, 320 King St\, Midland\, ONTARIO\, L4R3M6\, Canada
CATEGORIES:Birthday Celebrations
END:VEVENT
BEGIN:VEVENT
DTSTART;TZID=America/Toronto:20231123T183000
DTEND;TZID=America/Toronto:20231123T183000
DTSTAMP:20260420T152843
CREATED:20231107T142732Z
LAST-MODIFIED:20231107T142732Z
UID:2599-1700764200-1700764200@egbdaa.org
SUMMARY:Terry S. 1yr - Georgian Bay Sisters of Sobriety
DESCRIPTION:
URL:https://egbdaa.org/event/terry-s-1yr-georgian-bay-sisters-of-sobriety/
LOCATION:Midland Library\, 320 King St\, Midland\, ONTARIO\, L4R3M6\, Canada
CATEGORIES:Birthday Celebrations
END:VEVENT
BEGIN:VEVENT
DTSTART;VALUE=DATE:20231124
DTEND;VALUE=DATE:20231125
DTSTAMP:20260420T152843
CREATED:20231107T142944Z
LAST-MODIFIED:20231107T143017Z
UID:2601-1700784000-1700870399@egbdaa.org
SUMMARY:Cliff W. 43 yrs - Elmvale Group
DESCRIPTION:
URL:https://egbdaa.org/event/cliff-w-43-yrs-elmvale-group/
CATEGORIES:Birthday Celebrations
END:VEVENT
BEGIN:VEVENT
DTSTART;TZID=America/Toronto:20231128T190000
DTEND;TZID=America/Toronto:20231128T190000
DTSTAMP:20260420T152843
CREATED:20231113T000305Z
LAST-MODIFIED:20231113T000305Z
UID:2606-1701198000-1701198000@egbdaa.org
SUMMARY:Orillia Hill Group 50th Anniversary - St. Andrews Church Coffee House
DESCRIPTION:
URL:https://egbdaa.org/event/orillia-hill-group-50th-anniversary-st-andrews-church-coffee-house/
LOCATION:St Andrews Presbyterian Church\, 99 Peter St N\, Orillia\, ON\, L3V 4Z3\, Canada
CATEGORIES:Birthday Celebrations
END:VEVENT
END:VCALENDAR