BEGIN:VCALENDAR
VERSION:2.0
PRODID:-//Georgian Bay East AA - ECPv6.15.20//NONSGML v1.0//EN
CALSCALE:GREGORIAN
METHOD:PUBLISH
X-WR-CALNAME:Georgian Bay East AA
X-ORIGINAL-URL:https://egbdaa.org
X-WR-CALDESC:Events for Georgian Bay East AA
REFRESH-INTERVAL;VALUE=DURATION:PT1H
X-Robots-Tag:noindex
X-PUBLISHED-TTL:PT1H
BEGIN:VTIMEZONE
TZID:America/Toronto
BEGIN:DAYLIGHT
TZOFFSETFROM:-0500
TZOFFSETTO:-0400
TZNAME:EDT
DTSTART:20220313T070000
END:DAYLIGHT
BEGIN:STANDARD
TZOFFSETFROM:-0400
TZOFFSETTO:-0500
TZNAME:EST
DTSTART:20221106T060000
END:STANDARD
BEGIN:DAYLIGHT
TZOFFSETFROM:-0500
TZOFFSETTO:-0400
TZNAME:EDT
DTSTART:20230312T070000
END:DAYLIGHT
BEGIN:STANDARD
TZOFFSETFROM:-0400
TZOFFSETTO:-0500
TZNAME:EST
DTSTART:20231105T060000
END:STANDARD
BEGIN:DAYLIGHT
TZOFFSETFROM:-0500
TZOFFSETTO:-0400
TZNAME:EDT
DTSTART:20240310T070000
END:DAYLIGHT
BEGIN:STANDARD
TZOFFSETFROM:-0400
TZOFFSETTO:-0500
TZNAME:EST
DTSTART:20241103T060000
END:STANDARD
END:VTIMEZONE
BEGIN:VEVENT
DTSTART;VALUE=DATE:20231003
DTEND;VALUE=DATE:20231004
DTSTAMP:20260420T172054
CREATED:20230913T144936Z
LAST-MODIFIED:20230913T144936Z
UID:2539-1696291200-1696377599@egbdaa.org
SUMMARY:Andy C. 26yr - Bracebridge Back to Basics Group
DESCRIPTION:
URL:https://egbdaa.org/event/andy-c-26yr-bracebridge-back-to-basics-group/
CATEGORIES:Birthday Celebrations
END:VEVENT
BEGIN:VEVENT
DTSTART;VALUE=DATE:20231009
DTEND;VALUE=DATE:20231010
DTSTAMP:20260420T172054
CREATED:20231001T125846Z
LAST-MODIFIED:20231001T125846Z
UID:2580-1696809600-1696895999@egbdaa.org
SUMMARY:Elmvale Group 67 years 1956
DESCRIPTION:Group Anniversary       1956   67 years    on Thanksgiving Monday
URL:https://egbdaa.org/event/elmvale-group-67-years-1956/
CATEGORIES:Birthday Celebrations
END:VEVENT
BEGIN:VEVENT
DTSTART;VALUE=DATE:20231011
DTEND;VALUE=DATE:20231012
DTSTAMP:20260420T172054
CREATED:20231001T125129Z
LAST-MODIFIED:20231001T125129Z
UID:2574-1696982400-1697068799@egbdaa.org
SUMMARY:Ken L. 8 yrs. - Elmvale Group
DESCRIPTION:
URL:https://egbdaa.org/event/ken-l-8-yrs-elmvale-group/
CATEGORIES:Birthday Celebrations
END:VEVENT
BEGIN:VEVENT
DTSTART;TZID=America/Toronto:20231019T183000
DTEND;TZID=America/Toronto:20231019T200000
DTSTAMP:20260420T172054
CREATED:20230913T151423Z
LAST-MODIFIED:20230913T151716Z
UID:2554-1697740200-1697745600@egbdaa.org
SUMMARY:Alyah G 1 yr Oct 15 - Georgian Bay Sisters of Sobriety
DESCRIPTION:
URL:https://egbdaa.org/event/alyah-g-1-yr-oct-15-georgian-bay-sisters-of-sobriety/
LOCATION:Midland Library\, 320 King St\, Midland\, ONTARIO\, L4R3M6\, Canada
CATEGORIES:Birthday Celebrations
END:VEVENT
BEGIN:VEVENT
DTSTART;VALUE=DATE:20231021
DTEND;VALUE=DATE:20231022
DTSTAMP:20260420T172054
CREATED:20230913T150027Z
LAST-MODIFIED:20230913T150027Z
UID:2549-1697846400-1697932799@egbdaa.org
SUMMARY:Susan B. 7yr - Elmvale Monday Night Group
DESCRIPTION:
URL:https://egbdaa.org/event/susan-b-7yr-elmvale-monday-night-group/
CATEGORIES:Birthday Celebrations
END:VEVENT
BEGIN:VEVENT
DTSTART;VALUE=DATE:20231021
DTEND;VALUE=DATE:20231022
DTSTAMP:20260420T172054
CREATED:20231001T125651Z
LAST-MODIFIED:20231001T125651Z
UID:2578-1697846400-1697932799@egbdaa.org
SUMMARY:Susan B. 7 yr - Elmvale Group
DESCRIPTION:Susan B.  October 21st.  7 yr.
URL:https://egbdaa.org/event/susan-b-7-yr-elmvale-group/
CATEGORIES:Birthday Celebrations
END:VEVENT
BEGIN:VEVENT
DTSTART;VALUE=DATE:20231028
DTEND;VALUE=DATE:20231029
DTSTAMP:20260420T172054
CREATED:20230913T152500Z
LAST-MODIFIED:20230913T152500Z
UID:2564-1698451200-1698537599@egbdaa.org
SUMMARY:Kevin G 21yr - Orillia Friday-Sunday Group
DESCRIPTION:
URL:https://egbdaa.org/event/kevin-g-21yr-orillia-friday-sunday-group/
CATEGORIES:Birthday Celebrations
END:VEVENT
BEGIN:VEVENT
DTSTART;TZID=America/Toronto:20231030T193000
DTEND;TZID=America/Toronto:20231030T193000
DTSTAMP:20260420T172054
CREATED:20231001T125430Z
LAST-MODIFIED:20231001T125430Z
UID:2576-1698694200-1698694200@egbdaa.org
SUMMARY:Kathy M. 1 yr - Elmvale Monday Night Group
DESCRIPTION:
URL:https://egbdaa.org/event/kathy-m-1-yr-elmvale-monday-night-group/
LOCATION:St. John’s United Church\, 27 Yonge St. S.\, Elmvale\, Ontario\, L0L 1P0\, Canada
CATEGORIES:Birthday Celebrations
END:VEVENT
BEGIN:VEVENT
DTSTART;TZID=America/Toronto:20231030T193000
DTEND;TZID=America/Toronto:20231030T210000
DTSTAMP:20260420T172054
CREATED:20230913T145921Z
LAST-MODIFIED:20230913T145921Z
UID:2547-1698694200-1698699600@egbdaa.org
SUMMARY:Kathy M. 1yr Oct 13 - Elmvale Monday Night Group
DESCRIPTION:
URL:https://egbdaa.org/event/kathy-m-1yr-oct-13-elmvale-monday-night-group/
LOCATION:St. John’s United Church\, 27 Yonge St. S.\, Elmvale\, Ontario\, L0L 1P0\, Canada
CATEGORIES:Birthday Celebrations
END:VEVENT
END:VCALENDAR