BEGIN:VCALENDAR
VERSION:2.0
PRODID:-//Georgian Bay East AA - ECPv6.15.20//NONSGML v1.0//EN
CALSCALE:GREGORIAN
METHOD:PUBLISH
X-WR-CALNAME:Georgian Bay East AA
X-ORIGINAL-URL:https://egbdaa.org
X-WR-CALDESC:Events for Georgian Bay East AA
REFRESH-INTERVAL;VALUE=DURATION:PT1H
X-Robots-Tag:noindex
X-PUBLISHED-TTL:PT1H
BEGIN:VTIMEZONE
TZID:America/Toronto
BEGIN:DAYLIGHT
TZOFFSETFROM:-0500
TZOFFSETTO:-0400
TZNAME:EDT
DTSTART:20220313T070000
END:DAYLIGHT
BEGIN:STANDARD
TZOFFSETFROM:-0400
TZOFFSETTO:-0500
TZNAME:EST
DTSTART:20221106T060000
END:STANDARD
BEGIN:DAYLIGHT
TZOFFSETFROM:-0500
TZOFFSETTO:-0400
TZNAME:EDT
DTSTART:20230312T070000
END:DAYLIGHT
BEGIN:STANDARD
TZOFFSETFROM:-0400
TZOFFSETTO:-0500
TZNAME:EST
DTSTART:20231105T060000
END:STANDARD
BEGIN:DAYLIGHT
TZOFFSETFROM:-0500
TZOFFSETTO:-0400
TZNAME:EDT
DTSTART:20240310T070000
END:DAYLIGHT
BEGIN:STANDARD
TZOFFSETFROM:-0400
TZOFFSETTO:-0500
TZNAME:EST
DTSTART:20241103T060000
END:STANDARD
END:VTIMEZONE
BEGIN:VEVENT
DTSTART;VALUE=DATE:20230901
DTEND;VALUE=DATE:20230902
DTSTAMP:20260420T185536
CREATED:20230913T144357Z
LAST-MODIFIED:20230913T144735Z
UID:2534-1693526400-1693612799@egbdaa.org
SUMMARY:Marilyn W. 16yr - Bala Home Away from Home Group
DESCRIPTION:
URL:https://egbdaa.org/event/marilyn-w-16yr/
CATEGORIES:Birthday Celebrations
END:VEVENT
BEGIN:VEVENT
DTSTART;VALUE=DATE:20230901
DTEND;VALUE=DATE:20230902
DTSTAMP:20260420T185536
CREATED:20230913T144544Z
LAST-MODIFIED:20230913T144602Z
UID:2536-1693526400-1693612799@egbdaa.org
SUMMARY:Dave B. 15yr - Bala Home Away from Home Group
DESCRIPTION:
URL:https://egbdaa.org/event/dave-b-15yr-bala-home-away-from-home-group/
CATEGORIES:Birthday Celebrations
END:VEVENT
BEGIN:VEVENT
DTSTART;TZID=America/Toronto:20230903T190000
DTEND;TZID=America/Toronto:20230903T200000
DTSTAMP:20260420T185536
CREATED:20230716T200317Z
LAST-MODIFIED:20230829T194428Z
UID:2458-1693767600-1693771200@egbdaa.org
SUMMARY:Tom A\, 40yr Medallion - Orillia Friday-Sunday Group
DESCRIPTION:
URL:https://egbdaa.org/event/tom-a-40yr-orillia-friday-sunday-group/
LOCATION:Saint James’ Anglican Church\, 58 Peter St N\, Orillia\, ON L3V 6J6\, Canada\, 58 Peter St N\, Orillia\, Ontario\, L3V 6J6\, Canada
CATEGORIES:Birthday Celebrations
END:VEVENT
BEGIN:VEVENT
DTSTART;VALUE=DATE:20230907
DTEND;VALUE=DATE:20230908
DTSTAMP:20260420T185536
CREATED:20230823T193609Z
LAST-MODIFIED:20230823T193609Z
UID:2524-1694044800-1694131199@egbdaa.org
SUMMARY:David S. 1yr - Orillia Just for Today Group
DESCRIPTION:
URL:https://egbdaa.org/event/david-s-1yr-orillia-just-for-today-group/
CATEGORIES:Birthday Celebrations
END:VEVENT
BEGIN:VEVENT
DTSTART;VALUE=DATE:20230909
DTEND;VALUE=DATE:20230910
DTSTAMP:20260420T185536
CREATED:20230823T192339Z
LAST-MODIFIED:20230823T192339Z
UID:2508-1694217600-1694303999@egbdaa.org
SUMMARY:Laura K. 11 yrs - Elmvale Group
DESCRIPTION:
URL:https://egbdaa.org/event/laura-k-11-yrs-elmvale-group/
CATEGORIES:Birthday Celebrations
END:VEVENT
BEGIN:VEVENT
DTSTART;VALUE=DATE:20230909
DTEND;VALUE=DATE:20230910
DTSTAMP:20260420T185536
CREATED:20230913T145554Z
LAST-MODIFIED:20230913T145554Z
UID:2545-1694217600-1694303999@egbdaa.org
SUMMARY:Laura K. 11yr - Elmvale Monday Night Group
DESCRIPTION:
URL:https://egbdaa.org/event/laura-k-11yr-elmvale-monday-night-group/
CATEGORIES:Birthday Celebrations
END:VEVENT
BEGIN:VEVENT
DTSTART;VALUE=DATE:20230911
DTEND;VALUE=DATE:20230912
DTSTAMP:20260420T185536
CREATED:20230913T152631Z
LAST-MODIFIED:20230913T152832Z
UID:2566-1694390400-1694476799@egbdaa.org
SUMMARY:Bob C 2yr - Orillia Just for Today Group
DESCRIPTION:
URL:https://egbdaa.org/event/bob-c-2yr-orillia-just-for-today-group/
CATEGORIES:Birthday Celebrations
END:VEVENT
BEGIN:VEVENT
DTSTART;TZID=America/Toronto:20230914T200000
DTEND;TZID=America/Toronto:20230914T210000
DTSTAMP:20260420T185536
CREATED:20230913T145303Z
LAST-MODIFIED:20230913T145303Z
UID:2541-1694721600-1694725200@egbdaa.org
SUMMARY:Percy G. 30yr Sept 8 - Bracebridge Thursday Night Group
DESCRIPTION:
URL:https://egbdaa.org/event/percy-g-30yr-sept-8-bracebridge-thursday-night-group/
LOCATION:Bracebridge United Church\, 46 Doninion St\, Bracebridge\, ON\, P1L 2A5\, Canada
CATEGORIES:Birthday Celebrations
END:VEVENT
BEGIN:VEVENT
DTSTART;TZID=America/Toronto:20230916T080000
DTEND;TZID=America/Toronto:20230916T170000
DTSTAMP:20260420T185536
CREATED:20230913T145457Z
LAST-MODIFIED:20230913T145457Z
UID:2543-1694851200-1694883600@egbdaa.org
SUMMARY:Christine G. 22yr - Bracebridge Thursday Night Group
DESCRIPTION:
URL:https://egbdaa.org/event/christine-g-22yr-bracebridge-thursday-night-group/
CATEGORIES:Birthday Celebrations
END:VEVENT
BEGIN:VEVENT
DTSTART;VALUE=DATE:20230921
DTEND;VALUE=DATE:20230922
DTSTAMP:20260420T185536
CREATED:20230913T152157Z
LAST-MODIFIED:20230913T152157Z
UID:2560-1695254400-1695340799@egbdaa.org
SUMMARY:Jack 41 yr - Gravenhurst Wednesday Night 12 & 12 Group
DESCRIPTION:
URL:https://egbdaa.org/event/jack-41-yr-gravenhurst-wednesday-night-12-12-group/
CATEGORIES:Birthday Celebrations
END:VEVENT
END:VCALENDAR