BEGIN:VCALENDAR
VERSION:2.0
PRODID:-//Georgian Bay East AA - ECPv6.15.20//NONSGML v1.0//EN
CALSCALE:GREGORIAN
METHOD:PUBLISH
X-WR-CALNAME:Georgian Bay East AA
X-ORIGINAL-URL:https://egbdaa.org
X-WR-CALDESC:Events for Georgian Bay East AA
REFRESH-INTERVAL;VALUE=DURATION:PT1H
X-Robots-Tag:noindex
X-PUBLISHED-TTL:PT1H
BEGIN:VTIMEZONE
TZID:America/Toronto
BEGIN:DAYLIGHT
TZOFFSETFROM:-0500
TZOFFSETTO:-0400
TZNAME:EDT
DTSTART:20220313T070000
END:DAYLIGHT
BEGIN:STANDARD
TZOFFSETFROM:-0400
TZOFFSETTO:-0500
TZNAME:EST
DTSTART:20221106T060000
END:STANDARD
BEGIN:DAYLIGHT
TZOFFSETFROM:-0500
TZOFFSETTO:-0400
TZNAME:EDT
DTSTART:20230312T070000
END:DAYLIGHT
BEGIN:STANDARD
TZOFFSETFROM:-0400
TZOFFSETTO:-0500
TZNAME:EST
DTSTART:20231105T060000
END:STANDARD
BEGIN:DAYLIGHT
TZOFFSETFROM:-0500
TZOFFSETTO:-0400
TZNAME:EDT
DTSTART:20240310T070000
END:DAYLIGHT
BEGIN:STANDARD
TZOFFSETFROM:-0400
TZOFFSETTO:-0500
TZNAME:EST
DTSTART:20241103T060000
END:STANDARD
END:VTIMEZONE
BEGIN:VEVENT
DTSTART;VALUE=DATE:20230701
DTEND;VALUE=DATE:20230702
DTSTAMP:20260420T223400
CREATED:20230618T191615Z
LAST-MODIFIED:20230618T191615Z
UID:2382-1688169600-1688255999@egbdaa.org
SUMMARY:Bernie B. (Orillia Just for Today Group ) - 28 yrs
DESCRIPTION:
URL:https://egbdaa.org/event/bernie-b-orillia-just-for-today-group-28-yrs/
CATEGORIES:Birthday Celebrations
END:VEVENT
BEGIN:VEVENT
DTSTART;VALUE=DATE:20230701
DTEND;VALUE=DATE:20230702
DTSTAMP:20260420T223400
CREATED:20230618T191839Z
LAST-MODIFIED:20230618T191839Z
UID:2386-1688169600-1688255999@egbdaa.org
SUMMARY:Marty T. (Penetang Friday Night Group) - 47 yrs
DESCRIPTION:
URL:https://egbdaa.org/event/marty-t-penetang-friday-night-group-47-yrs/
CATEGORIES:Birthday Celebrations
END:VEVENT
BEGIN:VEVENT
DTSTART;VALUE=DATE:20230707
DTEND;VALUE=DATE:20230708
DTSTAMP:20260420T223400
CREATED:20230618T190229Z
LAST-MODIFIED:20230618T190229Z
UID:2371-1688688000-1688774399@egbdaa.org
SUMMARY:Bruce S. (Elmvale Monday Night Group) - 28 yrs
DESCRIPTION:
URL:https://egbdaa.org/event/bruce-s-elmvale-monday-night-group-28-yrs/
CATEGORIES:Birthday Celebrations
END:VEVENT
BEGIN:VEVENT
DTSTART;VALUE=DATE:20230707
DTEND;VALUE=DATE:20230708
DTSTAMP:20260420T223400
CREATED:20230716T200458Z
LAST-MODIFIED:20230716T200727Z
UID:2460-1688688000-1688774399@egbdaa.org
SUMMARY:Dan K. 11yrs. - Orillia Hill Group
DESCRIPTION:
URL:https://egbdaa.org/event/dan-k-11yrs-orillia-hill-group/
CATEGORIES:Birthday Celebrations
END:VEVENT
BEGIN:VEVENT
DTSTART;VALUE=DATE:20230715
DTEND;VALUE=DATE:20230716
DTSTAMP:20260420T223400
CREATED:20230716T200539Z
LAST-MODIFIED:20230716T200539Z
UID:2462-1689379200-1689465599@egbdaa.org
SUMMARY:Penny A. 21 yr - Orillia Hill Group
DESCRIPTION:
URL:https://egbdaa.org/event/penny-a-21-yr-orillia-hill-group/
CATEGORIES:Birthday Celebrations
END:VEVENT
BEGIN:VEVENT
DTSTART;VALUE=DATE:20230716
DTEND;VALUE=DATE:20230717
DTSTAMP:20260420T223400
CREATED:20230716T195823Z
LAST-MODIFIED:20230716T201545Z
UID:2454-1689465600-1689551999@egbdaa.org
SUMMARY:Mike J.\, 9yr - Midland Tuesday Thursday Big Book Group
DESCRIPTION:
URL:https://egbdaa.org/event/mike-j-9yr-midland-tuesday-thursday-big-book-group/
CATEGORIES:Birthday Celebrations
END:VEVENT
BEGIN:VEVENT
DTSTART;VALUE=DATE:20230717
DTEND;VALUE=DATE:20230718
DTSTAMP:20260420T223400
CREATED:20230716T195954Z
LAST-MODIFIED:20230716T195954Z
UID:2456-1689552000-1689638399@egbdaa.org
SUMMARY:Frank B 13yr - Midland Tuesday Thursday Big Book Group
DESCRIPTION:
URL:https://egbdaa.org/event/frank-b-13yr-midland-tuesday-thursday-big-book-group/
CATEGORIES:Birthday Celebrations
END:VEVENT
BEGIN:VEVENT
DTSTART;VALUE=DATE:20230720
DTEND;VALUE=DATE:20230721
DTSTAMP:20260420T223400
CREATED:20230716T200843Z
LAST-MODIFIED:20230716T200843Z
UID:2465-1689811200-1689897599@egbdaa.org
SUMMARY:Theo D. 16yr - Orillia Hill Group
DESCRIPTION:
URL:https://egbdaa.org/event/theo-d-16yr-orillia-hill-group/
CATEGORIES:Birthday Celebrations
END:VEVENT
BEGIN:VEVENT
DTSTART;VALUE=DATE:20230721
DTEND;VALUE=DATE:20230722
DTSTAMP:20260420T223400
CREATED:20230618T191708Z
LAST-MODIFIED:20230618T191708Z
UID:2384-1689897600-1689983999@egbdaa.org
SUMMARY:Paul C. (Orillia Just for Today Group ) - 19 yrs
DESCRIPTION:
URL:https://egbdaa.org/event/paul-c-orillia-just-for-today-group-19-yrs/
CATEGORIES:Birthday Celebrations
END:VEVENT
BEGIN:VEVENT
DTSTART;VALUE=DATE:20230723
DTEND;VALUE=DATE:20230724
DTSTAMP:20260420T223400
CREATED:20230618T190316Z
LAST-MODIFIED:20230618T190316Z
UID:2373-1690070400-1690156799@egbdaa.org
SUMMARY:Wendy B. (Elmvale Monday Night Group) - 34 yrs
DESCRIPTION:
URL:https://egbdaa.org/event/wendy-b-elmvale-monday-night-group-34-yrs/
CATEGORIES:Birthday Celebrations
END:VEVENT
BEGIN:VEVENT
DTSTART;VALUE=DATE:20230723
DTEND;VALUE=DATE:20230724
DTSTAMP:20260420T223400
CREATED:20230717T113318Z
LAST-MODIFIED:20230717T113319Z
UID:2473-1690070400-1690156799@egbdaa.org
SUMMARY:Shawn B. 1 yr Celebration - Orillia Friday Sunday Group
DESCRIPTION:
URL:https://egbdaa.org/event/shawn-b-1-yr-celebration-orillia-friday-sunday-group/
CATEGORIES:Birthday Celebrations
END:VEVENT
END:VCALENDAR