BEGIN:VCALENDAR
VERSION:2.0
PRODID:-//Georgian Bay East AA - ECPv6.15.20//NONSGML v1.0//EN
CALSCALE:GREGORIAN
METHOD:PUBLISH
X-ORIGINAL-URL:https://egbdaa.org
X-WR-CALDESC:Events for Georgian Bay East AA
REFRESH-INTERVAL;VALUE=DURATION:PT1H
X-Robots-Tag:noindex
X-PUBLISHED-TTL:PT1H
BEGIN:VTIMEZONE
TZID:America/Toronto
BEGIN:DAYLIGHT
TZOFFSETFROM:-0500
TZOFFSETTO:-0400
TZNAME:EDT
DTSTART:20220313T070000
END:DAYLIGHT
BEGIN:STANDARD
TZOFFSETFROM:-0400
TZOFFSETTO:-0500
TZNAME:EST
DTSTART:20221106T060000
END:STANDARD
BEGIN:DAYLIGHT
TZOFFSETFROM:-0500
TZOFFSETTO:-0400
TZNAME:EDT
DTSTART:20230312T070000
END:DAYLIGHT
BEGIN:STANDARD
TZOFFSETFROM:-0400
TZOFFSETTO:-0500
TZNAME:EST
DTSTART:20231105T060000
END:STANDARD
BEGIN:DAYLIGHT
TZOFFSETFROM:-0500
TZOFFSETTO:-0400
TZNAME:EDT
DTSTART:20240310T070000
END:DAYLIGHT
BEGIN:STANDARD
TZOFFSETFROM:-0400
TZOFFSETTO:-0500
TZNAME:EST
DTSTART:20241103T060000
END:STANDARD
END:VTIMEZONE
BEGIN:VEVENT
DTSTART;TZID=America/Toronto:20230605T200000
DTEND;TZID=America/Toronto:20230605T210000
DTSTAMP:20260421T001124
CREATED:20230515T135713Z
LAST-MODIFIED:20230515T140123Z
UID:2359-1685995200-1685998800@egbdaa.org
SUMMARY:Mike D 25 Year Medalion
DESCRIPTION:Mike D\, 25 Years\, Washago Group\, Celebration on June 5. Open Meeting \n\n\n\n8:00 pm\nWashago Monday Night Group\n\nSevern Bridge Community Center\n\n\n1035 Southwood Rd\nWashago
URL:https://egbdaa.org/event/mike-d-25-year-medalion/
LOCATION:Washago Community Center\, 1035 Southwood Road\, Wasgago\, ON\, Canada
CATEGORIES:Birthday Celebrations
END:VEVENT
BEGIN:VEVENT
DTSTART;VALUE=DATE:20230625
DTEND;VALUE=DATE:20230626
DTSTAMP:20260421T001124
CREATED:20230618T185903Z
LAST-MODIFIED:20230618T190057Z
UID:2368-1687651200-1687737599@egbdaa.org
SUMMARY:Dorm P. (Elmvale Monday Night Group) - 34 yrs
DESCRIPTION:
URL:https://egbdaa.org/event/dorm-p-elmvale-monday-night-group-34-yrs/
CATEGORIES:Birthday Celebrations
END:VEVENT
BEGIN:VEVENT
DTSTART;VALUE=DATE:20230626
DTEND;VALUE=DATE:20230627
DTSTAMP:20260421T001124
CREATED:20230618T185705Z
LAST-MODIFIED:20230618T185725Z
UID:2366-1687737600-1687823999@egbdaa.org
SUMMARY:Allan S (Bracebridge Thursday Night Group) 47 Years
DESCRIPTION:
URL:https://egbdaa.org/event/allan-s-bracebridge-thursday-night-group-47-years/
CATEGORIES:Birthday Celebrations
END:VEVENT
END:VCALENDAR