BEGIN:VCALENDAR
VERSION:2.0
PRODID:-//Georgian Bay East AA - ECPv6.15.20//NONSGML v1.0//EN
CALSCALE:GREGORIAN
METHOD:PUBLISH
X-WR-CALNAME:Georgian Bay East AA
X-ORIGINAL-URL:https://egbdaa.org
X-WR-CALDESC:Events for Georgian Bay East AA
REFRESH-INTERVAL;VALUE=DURATION:PT1H
X-Robots-Tag:noindex
X-PUBLISHED-TTL:PT1H
BEGIN:VTIMEZONE
TZID:America/Toronto
BEGIN:DAYLIGHT
TZOFFSETFROM:-0500
TZOFFSETTO:-0400
TZNAME:EDT
DTSTART:20250309T070000
END:DAYLIGHT
BEGIN:STANDARD
TZOFFSETFROM:-0400
TZOFFSETTO:-0500
TZNAME:EST
DTSTART:20251102T060000
END:STANDARD
BEGIN:DAYLIGHT
TZOFFSETFROM:-0500
TZOFFSETTO:-0400
TZNAME:EDT
DTSTART:20260308T070000
END:DAYLIGHT
BEGIN:STANDARD
TZOFFSETFROM:-0400
TZOFFSETTO:-0500
TZNAME:EST
DTSTART:20261101T060000
END:STANDARD
BEGIN:DAYLIGHT
TZOFFSETFROM:-0500
TZOFFSETTO:-0400
TZNAME:EDT
DTSTART:20270314T070000
END:DAYLIGHT
BEGIN:STANDARD
TZOFFSETFROM:-0400
TZOFFSETTO:-0500
TZNAME:EST
DTSTART:20271107T060000
END:STANDARD
END:VTIMEZONE
BEGIN:VEVENT
DTSTART;TZID=America/Toronto:20260330T193000
DTEND;TZID=America/Toronto:20260330T203000
DTSTAMP:20260420T080053
CREATED:20260308T172120Z
LAST-MODIFIED:20260308T183553Z
UID:3410-1774899000-1774902600@egbdaa.org
SUMMARY:Cici R - 15 YEAR BIRTHDAY CELEBRATION!  Penetang Monday Night Serenity Group
DESCRIPTION:CONGRATS TO CICI  R on 15 years of continuous sobriety.    Join the Monday night group to celebrate  tonight at 730PM!!
URL:https://egbdaa.org/event/cici-r-15-year-birthday-celebration-penetang-monday-night-serenity-group/
LOCATION:Covenant Community Church\, 95 Robert St E\, Penetanguishene\, Ontario\, Canada
CATEGORIES:Upcoming Events
END:VEVENT
END:VCALENDAR