BEGIN:VCALENDAR
VERSION:2.0
PRODID:-//Georgian Bay East AA - ECPv6.15.20//NONSGML v1.0//EN
CALSCALE:GREGORIAN
METHOD:PUBLISH
X-ORIGINAL-URL:https://egbdaa.org
X-WR-CALDESC:Events for Georgian Bay East AA
REFRESH-INTERVAL;VALUE=DURATION:PT1H
X-Robots-Tag:noindex
X-PUBLISHED-TTL:PT1H
BEGIN:VTIMEZONE
TZID:America/Toronto
BEGIN:DAYLIGHT
TZOFFSETFROM:-0500
TZOFFSETTO:-0400
TZNAME:EDT
DTSTART:20230312T070000
END:DAYLIGHT
BEGIN:STANDARD
TZOFFSETFROM:-0400
TZOFFSETTO:-0500
TZNAME:EST
DTSTART:20231105T060000
END:STANDARD
BEGIN:DAYLIGHT
TZOFFSETFROM:-0500
TZOFFSETTO:-0400
TZNAME:EDT
DTSTART:20240310T070000
END:DAYLIGHT
BEGIN:STANDARD
TZOFFSETFROM:-0400
TZOFFSETTO:-0500
TZNAME:EST
DTSTART:20241103T060000
END:STANDARD
BEGIN:DAYLIGHT
TZOFFSETFROM:-0500
TZOFFSETTO:-0400
TZNAME:EDT
DTSTART:20250309T070000
END:DAYLIGHT
BEGIN:STANDARD
TZOFFSETFROM:-0400
TZOFFSETTO:-0500
TZNAME:EST
DTSTART:20251102T060000
END:STANDARD
END:VTIMEZONE
BEGIN:VEVENT
DTSTART;TZID=America/Toronto:20241222T103000
DTEND;TZID=America/Toronto:20241222T233000
DTSTAMP:20260422T013526
CREATED:20241210T201505Z
LAST-MODIFIED:20241210T201511Z
UID:2987-1734863400-1734910200@egbdaa.org
SUMMARY:78 Year Group Anniversary Celebration - Wednesday Night Group\, Midland
DESCRIPTION:All welcome to join in this celebration of AA service to Midland and Area.
URL:https://egbdaa.org/event/78-year-group-anniversary-celebration-wednesday-night-group-midland/
LOCATION:Royal Canadian Legion Branch 80 196 Queen St Midland ON L4R 1J4 Canada\, 196 Queen St\, Midland\, ON\, K4R1J4\, Canada
CATEGORIES:Upcoming Events
END:VEVENT
END:VCALENDAR