BEGIN:VCALENDAR
VERSION:2.0
PRODID:-//Georgian Bay East AA - ECPv6.15.20//NONSGML v1.0//EN
CALSCALE:GREGORIAN
METHOD:PUBLISH
X-WR-CALNAME:Georgian Bay East AA
X-ORIGINAL-URL:https://egbdaa.org
X-WR-CALDESC:Events for Georgian Bay East AA
REFRESH-INTERVAL;VALUE=DURATION:PT1H
X-Robots-Tag:noindex
X-PUBLISHED-TTL:PT1H
BEGIN:VTIMEZONE
TZID:America/Toronto
BEGIN:DAYLIGHT
TZOFFSETFROM:-0500
TZOFFSETTO:-0400
TZNAME:EDT
DTSTART:20230312T070000
END:DAYLIGHT
BEGIN:STANDARD
TZOFFSETFROM:-0400
TZOFFSETTO:-0500
TZNAME:EST
DTSTART:20231105T060000
END:STANDARD
BEGIN:DAYLIGHT
TZOFFSETFROM:-0500
TZOFFSETTO:-0400
TZNAME:EDT
DTSTART:20240310T070000
END:DAYLIGHT
BEGIN:STANDARD
TZOFFSETFROM:-0400
TZOFFSETTO:-0500
TZNAME:EST
DTSTART:20241103T060000
END:STANDARD
BEGIN:DAYLIGHT
TZOFFSETFROM:-0500
TZOFFSETTO:-0400
TZNAME:EDT
DTSTART:20250309T070000
END:DAYLIGHT
BEGIN:STANDARD
TZOFFSETFROM:-0400
TZOFFSETTO:-0500
TZNAME:EST
DTSTART:20251102T060000
END:STANDARD
END:VTIMEZONE
BEGIN:VEVENT
DTSTART;TZID=America/Toronto:20241108T200000
DTEND;TZID=America/Toronto:20241108T210000
DTSTAMP:20260422T031717
CREATED:20241101T212745Z
LAST-MODIFIED:20241101T212745Z
UID:2951-1731096000-1731099600@egbdaa.org
SUMMARY:Penetang Friday Night Group - 70th Anniversary of Service Celebration
DESCRIPTION:A celebration of the 70th Anniversary of the Penetang Friday Night Group will take place Friday November 8th\, 2024 at 8pm. \nFood and cake will be provided. \nGuest Speakers will be speaking as well. \nAll are welcome!
URL:https://egbdaa.org/event/penetang-friday-night-group-70th-anniversary-of-service-celebration/
LOCATION:Saint Anne Roman Catholic Church\, 28 Robert St W\, Penetanguishene\, ON\, Canada
CATEGORIES:Upcoming Events
END:VEVENT
END:VCALENDAR