BEGIN:VCALENDAR
VERSION:2.0
PRODID:-//Georgian Bay East AA - ECPv6.15.20//NONSGML v1.0//EN
CALSCALE:GREGORIAN
METHOD:PUBLISH
X-ORIGINAL-URL:https://egbdaa.org
X-WR-CALDESC:Events for Georgian Bay East AA
REFRESH-INTERVAL;VALUE=DURATION:PT1H
X-Robots-Tag:noindex
X-PUBLISHED-TTL:PT1H
BEGIN:VTIMEZONE
TZID:America/Toronto
BEGIN:DAYLIGHT
TZOFFSETFROM:-0500
TZOFFSETTO:-0400
TZNAME:EDT
DTSTART:20230312T070000
END:DAYLIGHT
BEGIN:STANDARD
TZOFFSETFROM:-0400
TZOFFSETTO:-0500
TZNAME:EST
DTSTART:20231105T060000
END:STANDARD
BEGIN:DAYLIGHT
TZOFFSETFROM:-0500
TZOFFSETTO:-0400
TZNAME:EDT
DTSTART:20240310T070000
END:DAYLIGHT
BEGIN:STANDARD
TZOFFSETFROM:-0400
TZOFFSETTO:-0500
TZNAME:EST
DTSTART:20241103T060000
END:STANDARD
BEGIN:DAYLIGHT
TZOFFSETFROM:-0500
TZOFFSETTO:-0400
TZNAME:EDT
DTSTART:20250309T070000
END:DAYLIGHT
BEGIN:STANDARD
TZOFFSETFROM:-0400
TZOFFSETTO:-0500
TZNAME:EST
DTSTART:20251102T060000
END:STANDARD
END:VTIMEZONE
BEGIN:VEVENT
DTSTART;TZID=America/Toronto:20241106T200000
DTEND;TZID=America/Toronto:20241106T210000
DTSTAMP:20260422T032019
CREATED:20241101T204630Z
LAST-MODIFIED:20241101T204630Z
UID:2949-1730923200-1730926800@egbdaa.org
SUMMARY:Rama Miigwech Group - 30th Anniversary Celebration
DESCRIPTION:The Rama Miigwech Group is celebrating it’s 30th year of service this Wednesday November 6th\, beginning at 8pm. \nThere will be 2 guest speakers \nThere will be food and cake for those attending. \nAll are welcome!
URL:https://egbdaa.org/event/rama-miigwech-group-30th-anniversary-celebration/
LOCATION:Rama United Church\, 5896 Rama Rd\, Orillia\, ON\, L3V 6H6\, Canada
CATEGORIES:Upcoming Events
END:VEVENT
END:VCALENDAR