BEGIN:VCALENDAR
VERSION:2.0
PRODID:-//Georgian Bay East AA - ECPv6.15.20//NONSGML v1.0//EN
CALSCALE:GREGORIAN
METHOD:PUBLISH
X-WR-CALNAME:Georgian Bay East AA
X-ORIGINAL-URL:https://egbdaa.org
X-WR-CALDESC:Events for Georgian Bay East AA
REFRESH-INTERVAL;VALUE=DURATION:PT1H
X-Robots-Tag:noindex
X-PUBLISHED-TTL:PT1H
BEGIN:VTIMEZONE
TZID:America/Toronto
BEGIN:DAYLIGHT
TZOFFSETFROM:-0500
TZOFFSETTO:-0400
TZNAME:EDT
DTSTART:20230312T070000
END:DAYLIGHT
BEGIN:STANDARD
TZOFFSETFROM:-0400
TZOFFSETTO:-0500
TZNAME:EST
DTSTART:20231105T060000
END:STANDARD
BEGIN:DAYLIGHT
TZOFFSETFROM:-0500
TZOFFSETTO:-0400
TZNAME:EDT
DTSTART:20240310T070000
END:DAYLIGHT
BEGIN:STANDARD
TZOFFSETFROM:-0400
TZOFFSETTO:-0500
TZNAME:EST
DTSTART:20241103T060000
END:STANDARD
BEGIN:DAYLIGHT
TZOFFSETFROM:-0500
TZOFFSETTO:-0400
TZNAME:EDT
DTSTART:20250309T070000
END:DAYLIGHT
BEGIN:STANDARD
TZOFFSETFROM:-0400
TZOFFSETTO:-0500
TZNAME:EST
DTSTART:20251102T060000
END:STANDARD
END:VTIMEZONE
BEGIN:VEVENT
DTSTART;TZID=America/Toronto:20240511T083000
DTEND;TZID=America/Toronto:20240511T193000
DTSTAMP:20260424T135513
CREATED:20240404T165620Z
LAST-MODIFIED:20240404T165620Z
UID:2758-1715416200-1715455800@egbdaa.org
SUMMARY:AA Midland & Area - 2024 Roundup
DESCRIPTION:Flyer 4 (1)
URL:https://egbdaa.org/event/aa-midland-area-2024-roundup/
LOCATION:Tiny Township Community Center\, 91 Concession Road 8\, Tiny\, Ontario\, L0L 2J0\, Canada
CATEGORIES:Upcoming Events
ATTACH;FMTTYPE=application/pdf:https://egbdaa.org/wp-content/uploads/2024/04/Flyer-4-1-1.pdf
END:VEVENT
END:VCALENDAR