BEGIN:VCALENDAR
VERSION:2.0
PRODID:-//Georgian Bay East AA - ECPv6.15.20//NONSGML v1.0//EN
CALSCALE:GREGORIAN
METHOD:PUBLISH
X-WR-CALNAME:Georgian Bay East AA
X-ORIGINAL-URL:https://egbdaa.org
X-WR-CALDESC:Events for Georgian Bay East AA
REFRESH-INTERVAL;VALUE=DURATION:PT1H
X-Robots-Tag:noindex
X-PUBLISHED-TTL:PT1H
BEGIN:VTIMEZONE
TZID:America/Toronto
BEGIN:DAYLIGHT
TZOFFSETFROM:-0500
TZOFFSETTO:-0400
TZNAME:EDT
DTSTART:20220313T070000
END:DAYLIGHT
BEGIN:STANDARD
TZOFFSETFROM:-0400
TZOFFSETTO:-0500
TZNAME:EST
DTSTART:20221106T060000
END:STANDARD
BEGIN:DAYLIGHT
TZOFFSETFROM:-0500
TZOFFSETTO:-0400
TZNAME:EDT
DTSTART:20230312T070000
END:DAYLIGHT
BEGIN:STANDARD
TZOFFSETFROM:-0400
TZOFFSETTO:-0500
TZNAME:EST
DTSTART:20231105T060000
END:STANDARD
BEGIN:DAYLIGHT
TZOFFSETFROM:-0500
TZOFFSETTO:-0400
TZNAME:EDT
DTSTART:20240310T070000
END:DAYLIGHT
BEGIN:STANDARD
TZOFFSETFROM:-0400
TZOFFSETTO:-0500
TZNAME:EST
DTSTART:20241103T060000
END:STANDARD
END:VTIMEZONE
BEGIN:VEVENT
DTSTART;TZID=America/Toronto:20230218T160000
DTEND;TZID=America/Toronto:20230218T180000
DTSTAMP:20260425T165951
CREATED:20230213T170131Z
LAST-MODIFIED:20230213T170131Z
UID:2292-1676736000-1676743200@egbdaa.org
SUMMARY:Orillia AA are having a Spaghetti Dinner
DESCRIPTION:Members of Orillia AA are having a Spaghetti  Dinner this coming Sat Feb 18 from 4-6 pm. This is a fellowship event and all AA/ Alanon/ Family ( kids too) are welcome.\nThere is no charge but a 7th will be passed.\nlocation St James Anglican church.\nFor more info and confirm attendance call Bob T. 705-238-1380
URL:https://egbdaa.org/event/orillia-aa-are-having-a-spaghetti-dinner/
LOCATION:Saint James’ Anglican Church\, 58 Peter St N\, Orillia\, ON L3V 6J6\, Canada\, 58 Peter St N\, Orillia\, Ontario\, L3V 6J6\, Canada
CATEGORIES:Upcoming Events
END:VEVENT
END:VCALENDAR