BEGIN:VCALENDAR
VERSION:2.0
PRODID:-//Georgian Bay East AA - ECPv6.15.20//NONSGML v1.0//EN
CALSCALE:GREGORIAN
METHOD:PUBLISH
X-ORIGINAL-URL:https://egbdaa.org
X-WR-CALDESC:Events for Georgian Bay East AA
REFRESH-INTERVAL;VALUE=DURATION:PT1H
X-Robots-Tag:noindex
X-PUBLISHED-TTL:PT1H
BEGIN:VTIMEZONE
TZID:America/Toronto
BEGIN:DAYLIGHT
TZOFFSETFROM:-0500
TZOFFSETTO:-0400
TZNAME:EDT
DTSTART:20210314T070000
END:DAYLIGHT
BEGIN:STANDARD
TZOFFSETFROM:-0400
TZOFFSETTO:-0500
TZNAME:EST
DTSTART:20211107T060000
END:STANDARD
BEGIN:DAYLIGHT
TZOFFSETFROM:-0500
TZOFFSETTO:-0400
TZNAME:EDT
DTSTART:20220313T070000
END:DAYLIGHT
BEGIN:STANDARD
TZOFFSETFROM:-0400
TZOFFSETTO:-0500
TZNAME:EST
DTSTART:20221106T060000
END:STANDARD
BEGIN:DAYLIGHT
TZOFFSETFROM:-0500
TZOFFSETTO:-0400
TZNAME:EDT
DTSTART:20230312T070000
END:DAYLIGHT
BEGIN:STANDARD
TZOFFSETFROM:-0400
TZOFFSETTO:-0500
TZNAME:EST
DTSTART:20231105T060000
END:STANDARD
END:VTIMEZONE
BEGIN:VEVENT
DTSTART;TZID=America/Toronto:20221118T170000
DTEND;TZID=America/Toronto:20221120T210000
DTSTAMP:20260425T223619
CREATED:20220326T160000Z
LAST-MODIFIED:20221015T173846Z
UID:1948-1668790800-1668978000@egbdaa.org
SUMMARY:Area 86 Western Ontario General Service Fall Assembly
DESCRIPTION:WHEN:\n\n\n\n\n\nNovember 18\, 2022 @ 5:00 pm – November 20\, 2022 @ 9:00 pm\n\n\nWHERE:\nCrowne Plaza in Kitchener\n105 King St E\nKitchener\nON N2G 2K8\nMore Info\nhttps://egbdaa.org/wp-content/uploads/2022/10/Area-Assembly-Fall-2022.pdf
URL:https://egbdaa.org/event/area-86-western-ontario-general-service-assembly/
CATEGORIES:Upcoming Events
END:VEVENT
END:VCALENDAR